FILENAME: O4710461.NWS.1159416.tif
QUADRANGLE_NAME: CLUSTER BUTTES SW
QUADRANT: NW
WEST_LONGITUDE: -104 30 0.00000
EAST_LONGITUDE: -104 26 15.00000
NORTH_LATITUDE: 47 7 30.00000
SOUTH_LATITUDE: 47 3 45.00000
PRODUCTION_DATE: 2001 9 15
RASTER_ORDER: LEFT_RIGHT/TOP_BOTTOM
BAND_ORGANIZATION: SINGLE FILE
BAND_CONTENT: BLACK&WHITE
BAND_CONTENT: UNDEFINED
BAND_CONTENT: UNDEFINED
BITS_PER_PIXEL: 8
SAMPLES_AND_LINES: 5440 7590
HORIZONTAL_DATUM: NAD83
HORIZONTAL_COORDINATE_SYSTEM: UTM
COORDINATE_ZONE: 13
HORIZONTAL_UNITS: meters
HORIZONTAL_RESOLUTION: 1.00000
SECONDARY_HORIZONTAL_DATUM: NAD27
XY_ORIGIN: 537580.00000 5219515.00000
SECONDARY_XY_ORIGIN: 537619.53800 5219295.20800
NATION: US
STATE: MT
NW_QUAD_CORNER_XY: 537924.00700 5219176.32700
NE_QUAD_CORNER_XY: 542664.49800 5219208.53900
SE_QUAD_CORNERY_XY: 542714.44400 5212263.05100
SW_QUAD_CORNER_XY: 537968.40400 5212230.83300
SECONDARY_NW_QUAD_XY: 537925.17900 5218957.74100
SECONDARY_NE_QUAD_XY: 542665.81600 5218989.95400
SECONDARY_SE_QUAD_XY: 542715.76200 5212044.49300
SECONDARY_SW_QUAD_XY: 537969.57500 5212012.27500
RMSE_XY: 1.15000
IMAGE_SOURCE: BLACK AND WHITE FILM
SOURCE_IMAGE_ID: NAPP 9108-092
SOURCE_IMAGE_DATE: 1996 8 8
SOURCE_IMAGE_ID: NAPP 9108-091
SOURCE_IMAGE_DATE: 1996 8 8
SOURCE_IMAGE_ID: NAPP 9108-093
SOURCE_IMAGE_DATE: 1996 8 8
SOURCE_DEM_DATE: 1999 0 0
AGENCY: WESTERN MAPPING CENTER (WMC)
PRODUCER: WOOLPERT LLP
PRODUCTION_SYSTEM: INTERGRAPH ISPM, ISIR
COMPRESSION: UNDEFINED
STANDARD_VERSION: 1996 12
METADATA_DATE: 2001 9 27
DATA_FILE_SIZE: 41295040
BYTE_COUNT: 5440
