FILENAME: O4710461.SES.1159417.tif
QUADRANGLE_NAME: CLUSTER BUTTES SW
QUADRANT: SE
WEST_LONGITUDE: -104 26 15.00000
EAST_LONGITUDE: -104 22 30.00000
NORTH_LATITUDE: 47 3 45.00000
SOUTH_LATITUDE: 47 0 0.00000
PRODUCTION_DATE: 2001 9 15
RASTER_ORDER: LEFT_RIGHT/TOP_BOTTOM
BAND_ORGANIZATION: SINGLE FILE
BAND_CONTENT: BLACK&WHITE
BAND_CONTENT: UNDEFINED
BAND_CONTENT: UNDEFINED
BITS_PER_PIXEL: 8
SAMPLES_AND_LINES: 5450 7594
HORIZONTAL_DATUM: NAD83
HORIZONTAL_COORDINATE_SYSTEM: UTM
COORDINATE_ZONE: 13
HORIZONTAL_UNITS: meters
HORIZONTAL_RESOLUTION: 1.00000
SECONDARY_HORIZONTAL_DATUM: NAD27
XY_ORIGIN: 542371.00000 5212606.00000
SECONDARY_XY_ORIGIN: 542410.50600 5212386.28000
NATION: US
STATE: MT
NW_QUAD_CORNER_XY: 542714.44400 5212263.05100
NE_QUAD_CORNER_XY: 547460.48100 5212299.05800
SE_QUAD_CORNERY_XY: 547515.92100 5205353.65100
SW_QUAD_CORNER_XY: 542764.34000 5205317.63700
SECONDARY_NW_QUAD_XY: 542715.76200 5212044.49300
SECONDARY_NE_QUAD_XY: 547461.94500 5212080.50200
SECONDARY_SE_QUAD_XY: 547517.38500 5205135.12200
SECONDARY_SW_QUAD_XY: 542765.65700 5205099.10800
RMSE_XY: 1.41000
IMAGE_SOURCE: BLACK AND WHITE FILM
SOURCE_IMAGE_ID: NAPP 9103-018
SOURCE_IMAGE_DATE: 1996 7 15
SOURCE_IMAGE_ID: NAPP 9108-090
SOURCE_IMAGE_DATE: 1996 8 8
SOURCE_IMAGE_ID: NAPP 9095-057
SOURCE_IMAGE_DATE: 1996 7 9
SOURCE_DEM_DATE: 1999 0 0
AGENCY: WESTERN MAPPING CENTER (WMC)
PRODUCER: WOOLPERT LLP
PRODUCTION_SYSTEM: INTERGRAPH ISPM, ISIR
COMPRESSION: UNDEFINED
STANDARD_VERSION: 1996 12
METADATA_DATE: 2001 9 27
DATA_FILE_SIZE: 41392750
BYTE_COUNT: 5450
