FILENAME: O4710460.SES.1160736.tif
QUADRANGLE_NAME: ALLARD
QUADRANT: SE
WEST_LONGITUDE: -104 33 45.00000
EAST_LONGITUDE: -104 30 0.00000
NORTH_LATITUDE: 47 3 45.00000
SOUTH_LATITUDE: 47 0 0.00000
PRODUCTION_DATE: 2001 9 21
RASTER_ORDER: LEFT_RIGHT/TOP_BOTTOM
BAND_ORGANIZATION: SINGLE FILE
BAND_CONTENT: BLACK&WHITE
BAND_CONTENT: UNDEFINED
BAND_CONTENT: UNDEFINED
BITS_PER_PIXEL: 8
SAMPLES_AND_LINES: 5440 7586
HORIZONTAL_DATUM: NAD83
HORIZONTAL_COORDINATE_SYSTEM: UTM
COORDINATE_ZONE: 13
HORIZONTAL_UNITS: meters
HORIZONTAL_RESOLUTION: 1.00000
SECONDARY_HORIZONTAL_DATUM: NAD27
XY_ORIGIN: 532878.00000 5212537.00000
SECONDARY_XY_ORIGIN: 532917.65100 5212317.28200
NATION: US
STATE: MT
NW_QUAD_CORNER_XY: 533222.36000 5212202.40600
NE_QUAD_CORNER_XY: 537968.40400 5212230.83300
SE_QUAD_CORNERY_XY: 538012.75500 5205285.41500
SW_QUAD_CORNER_XY: 533261.16700 5205256.98400
SECONDARY_NW_QUAD_XY: 533223.38600 5211983.84700
SECONDARY_NE_QUAD_XY: 537969.57500 5212012.27500
SECONDARY_SE_QUAD_XY: 538013.92600 5205066.88400
SECONDARY_SW_QUAD_XY: 533262.19200 5205038.45200
RMSE_XY: 2.33000
IMAGE_SOURCE: BLACK AND WHITE FILM
SOURCE_IMAGE_ID: NAPP 9108-071
SOURCE_IMAGE_DATE: 1996 8 8
SOURCE_IMAGE_ID: NAPP 9108-090
SOURCE_IMAGE_DATE: 1996 8 8
SOURCE_IMAGE_ID: NAPP 9108-072
SOURCE_IMAGE_DATE: 1996 8 8
SOURCE_IMAGE_ID: NAPP 9108-039
SOURCE_IMAGE_DATE: 1996 8 8
SOURCE_DEM_DATE: 1999 0 0
AGENCY: WESTERN MAPPING CENTER (WMC)
PRODUCER: WOOLPERT LLP
PRODUCTION_SYSTEM: INTERGRAPH ISPM, ISIR
COMPRESSION: UNDEFINED
STANDARD_VERSION: 1996 12
METADATA_DATE: 2001 10 3
DATA_FILE_SIZE: 41273280
BYTE_COUNT: 5440
