FILENAME: O4710459.NWS.1160720.tif
QUADRANGLE_NAME: GLENDIVE
QUADRANT: NW
WEST_LONGITUDE: -104 45 0.00000
EAST_LONGITUDE: -104 41 15.00000
NORTH_LATITUDE: 47 7 30.00000
SOUTH_LATITUDE: 47 3 45.00000
PRODUCTION_DATE: 2001 9 21
RASTER_ORDER: LEFT_RIGHT/TOP_BOTTOM
BAND_ORGANIZATION: SINGLE FILE
BAND_CONTENT: BLACK&WHITE
BAND_CONTENT: UNDEFINED
BAND_CONTENT: UNDEFINED
BITS_PER_PIXEL: 8
SAMPLES_AND_LINES: 5419 7575
HORIZONTAL_DATUM: NAD83
HORIZONTAL_COORDINATE_SYSTEM: UTM
COORDINATE_ZONE: 13
HORIZONTAL_UNITS: meters
HORIZONTAL_RESOLUTION: 1.00000
SECONDARY_HORIZONTAL_DATUM: NAD27
XY_ORIGIN: 518617.00000 5219409.00000
SECONDARY_XY_ORIGIN: 518656.81200 5219189.18800
NATION: US
STATE: MT
NW_QUAD_CORNER_XY: 518962.01700 5219085.37600
NE_QUAD_CORNER_XY: 523702.51800 5219102.42900
SE_QUAD_CORNERY_XY: 523730.26500 5212156.92400
SW_QUAD_CORNER_XY: 518984.21500 5212139.86800
SECONDARY_NW_QUAD_XY: 518962.60300 5218866.78700
SECONDARY_NE_QUAD_XY: 523703.25000 5218883.84100
SECONDARY_SE_QUAD_XY: 523730.99800 5211938.36300
SECONDARY_SW_QUAD_XY: 518984.80000 5211921.30600
RMSE_XY: 2.60000
IMAGE_SOURCE: BLACK AND WHITE FILM
SOURCE_IMAGE_ID: NAPP 9080-193
SOURCE_IMAGE_DATE: 1996 6 12
SOURCE_IMAGE_ID: NAPP 9080-068
SOURCE_IMAGE_DATE: 1996 6 12
SOURCE_IMAGE_ID: NAPP 9080-194
SOURCE_IMAGE_DATE: 1996 6 12
SOURCE_IMAGE_ID: NAPP 9080-067
SOURCE_IMAGE_DATE: 1996 6 12
SOURCE_IMAGE_ID: NAPP 9081-025
SOURCE_IMAGE_DATE: 0 0 0
SOURCE_DEM_DATE: 1999 0 0
AGENCY: WESTERN MAPPING CENTER (WMC)
PRODUCER: WOOLPERT LLP
PRODUCTION_SYSTEM: INTERGRAPH ISPM, ISIR
COMPRESSION: UNDEFINED
STANDARD_VERSION: 1996 12
METADATA_DATE: 2001 10 3
DATA_FILE_SIZE: 41054344
BYTE_COUNT: 5419
