FILENAME: O4710458.NES.1160701.tif
QUADRANGLE_NAME: FOREST PARK
QUADRANT: NE
WEST_LONGITUDE: -104 48 45.00000
EAST_LONGITUDE: -104 45 0.00000
NORTH_LATITUDE: 47 7 30.00000
SOUTH_LATITUDE: 47 3 45.00000
PRODUCTION_DATE: 2001 9 21
RASTER_ORDER: LEFT_RIGHT/TOP_BOTTOM
BAND_ORGANIZATION: SINGLE FILE
BAND_CONTENT: BLACK&WHITE
BAND_CONTENT: UNDEFINED
BAND_CONTENT: UNDEFINED
BITS_PER_PIXEL: 8
SAMPLES_AND_LINES: 5413 7571
HORIZONTAL_DATUM: NAD83
HORIZONTAL_COORDINATE_SYSTEM: UTM
COORDINATE_ZONE: 13
HORIZONTAL_UNITS: meters
HORIZONTAL_RESOLUTION: 1.00000
SECONDARY_HORIZONTAL_DATUM: NAD27
XY_ORIGIN: 513877.00000 5219392.00000
SECONDARY_XY_ORIGIN: 513916.87900 5219172.18700
NATION: US
STATE: MT
NW_QUAD_CORNER_XY: 514221.51400 5219072.11200
NE_QUAD_CORNER_XY: 518962.01700 5219085.37600
SE_QUAD_CORNERY_XY: 518984.21500 5212139.86800
SW_QUAD_CORNER_XY: 514238.16200 5212126.60200
SECONDARY_NW_QUAD_XY: 514221.95300 5218853.52300
SECONDARY_NE_QUAD_XY: 518962.60300 5218866.78700
SECONDARY_SE_QUAD_XY: 518984.80000 5211921.30600
SECONDARY_SW_QUAD_XY: 514238.60200 5211908.04000
RMSE_XY: 2.00000
IMAGE_SOURCE: BLACK AND WHITE FILM
SOURCE_IMAGE_ID: NAPP 9081-024
SOURCE_IMAGE_DATE: 1996 6 12
SOURCE_IMAGE_ID: NAPP 9081-025
SOURCE_IMAGE_DATE: 1996 6 12
SOURCE_DEM_DATE: 1999 0 0
AGENCY: WESTERN MAPPING CENTER (WMC)
PRODUCER: WOOLPERT LLP
PRODUCTION_SYSTEM: INTERGRAPH ISPM, ISIR
COMPRESSION: UNDEFINED
STANDARD_VERSION: 1996 12
METADATA_DATE: 2001 10 3
DATA_FILE_SIZE: 40987236
BYTE_COUNT: 5413
