FILENAME: O4710458.NWS.1160703.tif
QUADRANGLE_NAME: FOREST PARK
QUADRANT: NW
WEST_LONGITUDE: -104 52 30.00000
EAST_LONGITUDE: -104 48 45.00000
NORTH_LATITUDE: 47 7 30.00000
SOUTH_LATITUDE: 47 3 45.00000
PRODUCTION_DATE: 2001 9 21
RASTER_ORDER: LEFT_RIGHT/TOP_BOTTOM
BAND_ORGANIZATION: SINGLE FILE
BAND_CONTENT: BLACK&WHITE
BAND_CONTENT: UNDEFINED
BAND_CONTENT: UNDEFINED
BITS_PER_PIXEL: 8
SAMPLES_AND_LINES: 5408 7567
HORIZONTAL_DATUM: NAD83
HORIZONTAL_COORDINATE_SYSTEM: UTM
COORDINATE_ZONE: 13
HORIZONTAL_UNITS: meters
HORIZONTAL_RESOLUTION: 1.00000
SECONDARY_HORIZONTAL_DATUM: NAD27
XY_ORIGIN: 509136.00000 5219379.00000
SECONDARY_XY_ORIGIN: 509175.94600 5219159.18600
NATION: US
STATE: MT
NW_QUAD_CORNER_XY: 509481.01000 5219062.63800
NE_QUAD_CORNER_XY: 514221.51400 5219072.11200
SE_QUAD_CORNERY_XY: 514238.16200 5212126.60200
SW_QUAD_CORNER_XY: 509492.10900 5212117.12700
SECONDARY_NW_QUAD_XY: 509481.30300 5218844.04900
SECONDARY_NE_QUAD_XY: 514221.95300 5218853.52300
SECONDARY_SE_QUAD_XY: 514238.60200 5211908.04000
SECONDARY_SW_QUAD_XY: 509492.40200 5211898.56500
RMSE_XY: 2.20000
IMAGE_SOURCE: BLACK AND WHITE FILM
SOURCE_IMAGE_ID: NAPP 9081-149
SOURCE_IMAGE_DATE: 1996 6 12
SOURCE_DEM_DATE: 1999 0 0
AGENCY: WESTERN MAPPING CENTER (WMC)
PRODUCER: WOOLPERT LLP
PRODUCTION_SYSTEM: INTERGRAPH ISPM, ISIR
COMPRESSION: UNDEFINED
STANDARD_VERSION: 1996 12
METADATA_DATE: 2001 10 3
DATA_FILE_SIZE: 40927744
BYTE_COUNT: 5408
