FILENAME: O4710457.NES.1163696.tif
QUADRANGLE_NAME: PLEASANT VIEW
QUADRANT: NE
WEST_LONGITUDE: -104 56 15.00000
EAST_LONGITUDE: -104 52 30.00000
NORTH_LATITUDE: 47 7 30.00000
SOUTH_LATITUDE: 47 3 45.00000
PRODUCTION_DATE: 2001 8 28
RASTER_ORDER: LEFT_RIGHT/TOP_BOTTOM
BAND_ORGANIZATION: SINGLE FILE
BAND_CONTENT: BLACK&WHITE
BAND_CONTENT: UNDEFINED
BAND_CONTENT: UNDEFINED
BITS_PER_PIXEL: 8
SAMPLES_AND_LINES: 5403 7563
HORIZONTAL_DATUM: NAD83
HORIZONTAL_COORDINATE_SYSTEM: UTM
COORDINATE_ZONE: 13
HORIZONTAL_UNITS: meters
HORIZONTAL_RESOLUTION: 1.00000
SECONDARY_HORIZONTAL_DATUM: NAD27
XY_ORIGIN: 504395.00000 5219369.00000
SECONDARY_XY_ORIGIN: 504435.01300 5219149.18400
NATION: US
STATE: MT
NW_QUAD_CORNER_XY: 504740.50500 5219056.95400
NE_QUAD_CORNER_XY: 509481.01000 5219062.63800
SE_QUAD_CORNERY_XY: 509492.10900 5212117.12700
SW_QUAD_CORNER_XY: 504746.05500 5212111.44200
SECONDARY_NW_QUAD_XY: 504740.65200 5218838.36400
SECONDARY_NE_QUAD_XY: 509481.30300 5218844.04900
SECONDARY_SE_QUAD_XY: 509492.40200 5211898.56500
SECONDARY_SW_QUAD_XY: 504746.20100 5211892.87900
RMSE_XY: 2.09000
IMAGE_SOURCE: BLACK AND WHITE FILM
SOURCE_IMAGE_ID: NAPP 9108-160
SOURCE_IMAGE_DATE: 1996 8 8
SOURCE_DEM_DATE: 1999 0 0
AGENCY: WESTERN MAPPING CENTER (WMC)
PRODUCER: WOOLPERT LLP
PRODUCTION_SYSTEM: INTERGRAPH ISPM, ISIR
COMPRESSION: UNDEFINED
STANDARD_VERSION: 1996 12
METADATA_DATE: 2001 8 28
DATA_FILE_SIZE: 40868292
BYTE_COUNT: 5403
