FILENAME: O4710456.SWS.1159445.tif
QUADRANGLE_NAME: ODLAND DAM NE
QUADRANT: SW
WEST_LONGITUDE: -104 7 30.00000
EAST_LONGITUDE: -104 3 45.00000
NORTH_LATITUDE: 47 11 15.00000
SOUTH_LATITUDE: 47 7 30.00000
PRODUCTION_DATE: 2001 9 16
RASTER_ORDER: LEFT_RIGHT/TOP_BOTTOM
BAND_ORGANIZATION: SINGLE FILE
BAND_CONTENT: BLACK&WHITE
BAND_CONTENT: UNDEFINED
BAND_CONTENT: UNDEFINED
BITS_PER_PIXEL: 8
SAMPLES_AND_LINES: 5466 7613
HORIZONTAL_DATUM: NAD83
HORIZONTAL_COORDINATE_SYSTEM: UTM
COORDINATE_ZONE: 13
HORIZONTAL_UNITS: meters
HORIZONTAL_RESOLUTION: 1.00000
SECONDARY_HORIZONTAL_DATUM: NAD27
XY_ORIGIN: 565947.00000 5226734.00000
SECONDARY_XY_ORIGIN: 565986.10200 5226514.16400
NATION: US
STATE: MT
NW_QUAD_CORNER_XY: 566289.10900 5226371.98000
NE_QUAD_CORNER_XY: 571024.01400 5226426.92400
SE_QUAD_CORNERY_XY: 571107.34800 5219481.40400
SW_QUAD_CORNER_XY: 566366.88600 5219426.45100
SECONDARY_NW_QUAD_XY: 566291.16000 5226153.37500
SECONDARY_NE_QUAD_XY: 571026.21200 5226208.32100
SECONDARY_SE_QUAD_XY: 571109.54600 5219262.82700
SECONDARY_SW_QUAD_XY: 566368.93700 5219207.87300
RMSE_XY: 2.43000
IMAGE_SOURCE: BLACK AND WHITE FILM
SOURCE_IMAGE_ID: NAPP 8631-062
SOURCE_IMAGE_DATE: 1995 7 28
SOURCE_IMAGE_ID: NAPP 10766-131
SOURCE_IMAGE_DATE: 1998 7 10
SOURCE_DEM_DATE: 1999 0 0
AGENCY: WESTERN MAPPING CENTER (WMC)
PRODUCER: WOOLPERT LLP
PRODUCTION_SYSTEM: INTERGRAPH ISPM, ISIR
COMPRESSION: UNDEFINED
STANDARD_VERSION: 1996 12
METADATA_DATE: 2001 9 27
DATA_FILE_SIZE: 41618124
BYTE_COUNT: 5466
