FILENAME: O4710455.SES.1159442.tif
QUADRANGLE_NAME: ODLAND DAM NW
QUADRANT: SE
WEST_LONGITUDE: -104 11 15.00000
EAST_LONGITUDE: -104 7 30.00000
NORTH_LATITUDE: 47 11 15.00000
SOUTH_LATITUDE: 47 7 30.00000
PRODUCTION_DATE: 2001 9 16
RASTER_ORDER: LEFT_RIGHT/TOP_BOTTOM
BAND_ORGANIZATION: SINGLE FILE
BAND_CONTENT: BLACK&WHITE
BAND_CONTENT: UNDEFINED
BAND_CONTENT: UNDEFINED
BITS_PER_PIXEL: 8
SAMPLES_AND_LINES: 5461 7609
HORIZONTAL_DATUM: NAD83
HORIZONTAL_COORDINATE_SYSTEM: UTM
COORDINATE_ZONE: 13
HORIZONTAL_UNITS: meters
HORIZONTAL_RESOLUTION: 1.00000
SECONDARY_HORIZONTAL_DATUM: NAD27
XY_ORIGIN: 561211.00000 5226679.00000
SECONDARY_XY_ORIGIN: 561250.14600 5226459.14100
NATION: US
STATE: MT
NW_QUAD_CORNER_XY: 561554.19700 5226320.82500
NE_QUAD_CORNER_XY: 566289.10900 5226371.98000
SE_QUAD_CORNERY_XY: 566366.88600 5219426.45100
SW_QUAD_CORNER_XY: 561626.41800 5219375.28800
SECONDARY_NW_QUAD_XY: 561556.10200 5226102.21900
SECONDARY_NE_QUAD_XY: 566291.16000 5226153.37500
SECONDARY_SE_QUAD_XY: 566368.93700 5219207.87300
SECONDARY_SW_QUAD_XY: 561628.32300 5219156.70800
RMSE_XY: 2.45000
IMAGE_SOURCE: BLACK AND WHITE FILM
SOURCE_IMAGE_ID: NAPP 10766-132
SOURCE_IMAGE_DATE: 1998 7 10
SOURCE_IMAGE_ID: NAPP 10766-131
SOURCE_IMAGE_DATE: 1998 7 10
SOURCE_DEM_DATE: 1999 0 0
AGENCY: WESTERN MAPPING CENTER (WMC)
PRODUCER: WOOLPERT LLP
PRODUCTION_SYSTEM: INTERGRAPH ISPM, ISIR
COMPRESSION: UNDEFINED
STANDARD_VERSION: 1996 12
METADATA_DATE: 2001 9 18
DATA_FILE_SIZE: 41558210
BYTE_COUNT: 5461
