FILENAME: O4710455.SWS.1159443.tif
QUADRANGLE_NAME: ODLAND DAM NW
QUADRANT: SW
WEST_LONGITUDE: -104 15 0.00000
EAST_LONGITUDE: -104 11 15.00000
NORTH_LATITUDE: 47 11 15.00000
SOUTH_LATITUDE: 47 7 30.00000
PRODUCTION_DATE: 2001 9 16
RASTER_ORDER: LEFT_RIGHT/TOP_BOTTOM
BAND_ORGANIZATION: SINGLE FILE
BAND_CONTENT: BLACK&WHITE
BAND_CONTENT: UNDEFINED
BAND_CONTENT: UNDEFINED
BITS_PER_PIXEL: 8
SAMPLES_AND_LINES: 5456 7606
HORIZONTAL_DATUM: NAD83
HORIZONTAL_COORDINATE_SYSTEM: UTM
COORDINATE_ZONE: 13
HORIZONTAL_UNITS: meters
HORIZONTAL_RESOLUTION: 1.00000
SECONDARY_HORIZONTAL_DATUM: NAD27
XY_ORIGIN: 556476.00000 5226628.00000
SECONDARY_XY_ORIGIN: 556515.19200 5226408.11700
NATION: US
STATE: MT
NW_QUAD_CORNER_XY: 556819.28000 5226273.46100
NE_QUAD_CORNER_XY: 561554.19700 5226320.82500
SE_QUAD_CORNERY_XY: 561626.41800 5219375.28800
SW_QUAD_CORNER_XY: 556885.94500 5219327.91600
SECONDARY_NW_QUAD_XY: 556821.03800 5226054.85300
SECONDARY_NE_QUAD_XY: 561556.10200 5226102.21900
SECONDARY_SE_QUAD_XY: 561628.32300 5219156.70800
SECONDARY_SW_QUAD_XY: 556887.70300 5219109.33500
RMSE_XY: 2.55000
IMAGE_SOURCE: BLACK AND WHITE FILM
SOURCE_IMAGE_ID: NAPP 9123-226
SOURCE_IMAGE_DATE: 1997 8 3
SOURCE_DEM_DATE: 1999 0 0
AGENCY: WESTERN MAPPING CENTER (WMC)
PRODUCER: WOOLPERT LLP
PRODUCTION_SYSTEM: INTERGRAPH ISPM, ISIR
COMPRESSION: UNDEFINED
STANDARD_VERSION: 1996 12
METADATA_DATE: 2001 9 18
DATA_FILE_SIZE: 41503792
BYTE_COUNT: 5456
