FILENAME: O4710454.SWS.1159426.tif
QUADRANGLE_NAME: CLUSTER BUTTES
QUADRANT: SW
WEST_LONGITUDE: -104 22 30.00000
EAST_LONGITUDE: -104 18 45.00000
NORTH_LATITUDE: 47 11 15.00000
SOUTH_LATITUDE: 47 7 30.00000
PRODUCTION_DATE: 2001 9 15
RASTER_ORDER: LEFT_RIGHT/TOP_BOTTOM
BAND_ORGANIZATION: SINGLE FILE
BAND_CONTENT: BLACK&WHITE
BAND_CONTENT: UNDEFINED
BAND_CONTENT: UNDEFINED
BITS_PER_PIXEL: 8
SAMPLES_AND_LINES: 5445 7598
HORIZONTAL_DATUM: NAD83
HORIZONTAL_COORDINATE_SYSTEM: UTM
COORDINATE_ZONE: 13
HORIZONTAL_UNITS: meters
HORIZONTAL_RESOLUTION: 1.00000
SECONDARY_HORIZONTAL_DATUM: NAD27
XY_ORIGIN: 547006.00000 5226537.00000
SECONDARY_XY_ORIGIN: 547045.34300 5226317.12600
NATION: US
STATE: MT
NW_QUAD_CORNER_XY: 547349.43100 5226190.10000
NE_QUAD_CORNER_XY: 552084.35800 5226229.88500
SE_QUAD_CORNERY_XY: 552145.46700 5219284.33400
SW_QUAD_CORNER_XY: 547404.98400 5219244.54100
SECONDARY_NW_QUAD_XY: 547350.89600 5225971.48900
SECONDARY_NE_QUAD_XY: 552085.96900 5226011.27600
SECONDARY_SE_QUAD_XY: 552147.07800 5219065.75100
SECONDARY_SW_QUAD_XY: 547406.44900 5219025.95800
RMSE_XY: 1.42000
IMAGE_SOURCE: BLACK AND WHITE FILM
SOURCE_IMAGE_ID: NAPP 9095-062
SOURCE_IMAGE_DATE: 1996 7 9
SOURCE_IMAGE_ID: NAPP 9095-063
SOURCE_IMAGE_DATE: 1996 7 9
SOURCE_IMAGE_ID: NAPP 9103-021
SOURCE_IMAGE_DATE: 1996 7 15
SOURCE_DEM_DATE: 1999 0 0
AGENCY: WESTERN MAPPING CENTER (WMC)
PRODUCER: WOOLPERT LLP
PRODUCTION_SYSTEM: INTERGRAPH ISPM, ISIR
COMPRESSION: UNDEFINED
STANDARD_VERSION: 1996 12
METADATA_DATE: 2001 9 18
DATA_FILE_SIZE: 41376555
BYTE_COUNT: 5445
