FILENAME: O4710453.NWS.1159412.tif
QUADRANGLE_NAME: CLUSTER BUTTES NW
QUADRANT: NW
WEST_LONGITUDE: -104 30 0.00000
EAST_LONGITUDE: -104 26 15.00000
NORTH_LATITUDE: 47 15 0.00000
SOUTH_LATITUDE: 47 11 15.00000
PRODUCTION_DATE: 2001 9 15
RASTER_ORDER: LEFT_RIGHT/TOP_BOTTOM
BAND_ORGANIZATION: SINGLE FILE
BAND_CONTENT: BLACK&WHITE
BAND_CONTENT: UNDEFINED
BAND_CONTENT: UNDEFINED
BITS_PER_PIXEL: 8
SAMPLES_AND_LINES: 5429 7591
HORIZONTAL_DATUM: NAD83
HORIZONTAL_COORDINATE_SYSTEM: UTM
COORDINATE_ZONE: 13
HORIZONTAL_UNITS: meters
HORIZONTAL_RESOLUTION: 1.00000
SECONDARY_HORIZONTAL_DATUM: NAD27
XY_ORIGIN: 537491.00000 5233407.00000
SECONDARY_XY_ORIGIN: 537530.44900 5233187.05500
NATION: US
STATE: MT
NW_QUAD_CORNER_XY: 537835.07700 5233067.54100
NE_QUAD_CORNER_XY: 542564.45100 5233099.74300
SE_QUAD_CORNERY_XY: 542614.50000 5226154.10300
SW_QUAD_CORNER_XY: 537879.56500 5226121.89600
SECONDARY_NW_QUAD_XY: 537836.25000 5232848.90300
SECONDARY_NE_QUAD_XY: 542565.77000 5232881.10600
SECONDARY_SE_QUAD_XY: 542615.81800 5225935.49200
SECONDARY_SW_QUAD_XY: 537880.73700 5225903.28400
RMSE_XY: 1.29000
IMAGE_SOURCE: BLACK AND WHITE FILM
SOURCE_IMAGE_ID: NAPP 9108-096
SOURCE_IMAGE_DATE: 1996 8 8
SOURCE_IMAGE_ID: NAPP 9108-095
SOURCE_IMAGE_DATE: 1996 8 8
SOURCE_IMAGE_ID: NAPP 9108-097
SOURCE_IMAGE_DATE: 1996 8 8
SOURCE_IMAGE_ID: NAPP 9103-025
SOURCE_IMAGE_DATE: 1996 7 15
SOURCE_IMAGE_ID: NAPP 9108-064
SOURCE_IMAGE_DATE: 1996 8 8
SOURCE_DEM_DATE: 1999 0 0
AGENCY: WESTERN MAPPING CENTER (WMC)
PRODUCER: WOOLPERT LLP
PRODUCTION_SYSTEM: INTERGRAPH ISPM, ISIR
COMPRESSION: UNDEFINED
STANDARD_VERSION: 1996 12
METADATA_DATE: 2001 9 27
DATA_FILE_SIZE: 41216968
BYTE_COUNT: 5429
