FILENAME: O4710451.NWS.1160716.tif
QUADRANGLE_NAME: STIPEK
QUADRANT: NW
WEST_LONGITUDE: -104 45 0.00000
EAST_LONGITUDE: -104 41 15.00000
NORTH_LATITUDE: 47 15 0.00000
SOUTH_LATITUDE: 47 11 15.00000
PRODUCTION_DATE: 2001 9 21
RASTER_ORDER: LEFT_RIGHT/TOP_BOTTOM
BAND_ORGANIZATION: SINGLE FILE
BAND_CONTENT: BLACK&WHITE
BAND_CONTENT: UNDEFINED
BAND_CONTENT: UNDEFINED
BITS_PER_PIXEL: 8
SAMPLES_AND_LINES: 5407 7575
HORIZONTAL_DATUM: NAD83
HORIZONTAL_COORDINATE_SYSTEM: UTM
COORDINATE_ZONE: 13
HORIZONTAL_UNITS: meters
HORIZONTAL_RESOLUTION: 1.00000
SECONDARY_HORIZONTAL_DATUM: NAD27
XY_ORIGIN: 518573.00000 5233300.00000
SECONDARY_XY_ORIGIN: 518612.72700 5233080.03400
NATION: US
STATE: MT
NW_QUAD_CORNER_XY: 518917.55300 5232976.61900
NE_QUAD_CORNER_XY: 523646.93700 5232993.66700
SE_QUAD_CORNERY_XY: 523674.74200 5226048.01000
SW_QUAD_CORNER_XY: 518939.79600 5226030.96000
SECONDARY_NW_QUAD_XY: 518918.13900 5232757.97900
SECONDARY_NE_QUAD_XY: 523647.67000 5232775.02700
SECONDARY_SE_QUAD_XY: 523675.47400 5225829.39600
SECONDARY_SW_QUAD_XY: 518940.38200 5225812.34500
RMSE_XY: 2.40000
IMAGE_SOURCE: BLACK AND WHITE FILM
SOURCE_IMAGE_ID: NAPP 9080-189
SOURCE_IMAGE_DATE: 1996 6 12
SOURCE_IMAGE_ID: NAPP 9080-073
SOURCE_IMAGE_DATE: 1996 6 12
SOURCE_IMAGE_ID: NAPP 9081-029
SOURCE_IMAGE_DATE: 1996 6 12
SOURCE_DEM_DATE: 1999 0 0
AGENCY: WESTERN MAPPING CENTER (WMC)
PRODUCER: WOOLPERT LLP
PRODUCTION_SYSTEM: INTERGRAPH ISPM, ISIR
COMPRESSION: UNDEFINED
STANDARD_VERSION: 1996 12
METADATA_DATE: 2001 10 3
DATA_FILE_SIZE: 40963432
BYTE_COUNT: 5407
