FILENAME: O4710451.SES.1160717.tif
QUADRANGLE_NAME: STIPEK
QUADRANT: SE
WEST_LONGITUDE: -104 41 15.00000
EAST_LONGITUDE: -104 37 30.00000
NORTH_LATITUDE: 47 11 15.00000
SOUTH_LATITUDE: 47 7 30.00000
PRODUCTION_DATE: 2001 9 21
RASTER_ORDER: LEFT_RIGHT/TOP_BOTTOM
BAND_ORGANIZATION: SINGLE FILE
BAND_CONTENT: BLACK&WHITE
BAND_CONTENT: UNDEFINED
BAND_CONTENT: UNDEFINED
BITS_PER_PIXEL: 8
SAMPLES_AND_LINES: 5419 7579
HORIZONTAL_DATUM: NAD83
HORIZONTAL_COORDINATE_SYSTEM: UTM
COORDINATE_ZONE: 13
HORIZONTAL_UNITS: meters
HORIZONTAL_RESOLUTION: 1.00000
SECONDARY_HORIZONTAL_DATUM: NAD27
XY_ORIGIN: 523330.00000 5226376.00000
SECONDARY_XY_ORIGIN: 523369.70100 5226156.11600
NATION: US
STATE: MT
NW_QUAD_CORNER_XY: 523674.74200 5226048.01000
NE_QUAD_CORNER_XY: 528409.68600 5226068.85000
SE_QUAD_CORNERY_XY: 528443.01700 5219123.27200
SW_QUAD_CORNER_XY: 523702.51800 5219102.42900
SECONDARY_NW_QUAD_XY: 523675.47400 5225829.39600
SECONDARY_NE_QUAD_XY: 528410.56500 5225850.23600
SECONDARY_SE_QUAD_XY: 528443.89600 5218904.68400
SECONDARY_SW_QUAD_XY: 523703.25000 5218883.84100
RMSE_XY: 2.30000
IMAGE_SOURCE: BLACK AND WHITE FILM
SOURCE_IMAGE_ID: NAPP 9080-070
SOURCE_IMAGE_DATE: 1996 6 12
SOURCE_IMAGE_ID: NAPP 9080-069
SOURCE_IMAGE_DATE: 1996 6 12
SOURCE_DEM_DATE: 1999 0 0
AGENCY: WESTERN MAPPING CENTER (WMC)
PRODUCER: WOOLPERT LLP
PRODUCTION_SYSTEM: INTERGRAPH ISPM, ISIR
COMPRESSION: UNDEFINED
STANDARD_VERSION: 1996 12
METADATA_DATE: 2001 10 3
DATA_FILE_SIZE: 41076020
BYTE_COUNT: 5419
