FILENAME: O4710450.NES.1160695.tif
QUADRANGLE_NAME: POVERTY FLAT EAST
QUADRANT: NE
WEST_LONGITUDE: -104 48 45.00000
EAST_LONGITUDE: -104 45 0.00000
NORTH_LATITUDE: 47 15 0.00000
SOUTH_LATITUDE: 47 11 15.00000
PRODUCTION_DATE: 2001 9 21
RASTER_ORDER: LEFT_RIGHT/TOP_BOTTOM
BAND_ORGANIZATION: SINGLE FILE
BAND_CONTENT: BLACK&WHITE
BAND_CONTENT: UNDEFINED
BAND_CONTENT: UNDEFINED
BITS_PER_PIXEL: 8
SAMPLES_AND_LINES: 5402 7571
HORIZONTAL_DATUM: NAD83
HORIZONTAL_COORDINATE_SYSTEM: UTM
COORDINATE_ZONE: 13
HORIZONTAL_UNITS: meters
HORIZONTAL_RESOLUTION: 1.00000
SECONDARY_HORIZONTAL_DATUM: NAD27
XY_ORIGIN: 513843.00000 5233283.00000
SECONDARY_XY_ORIGIN: 513882.79600 5233063.03300
NATION: US
STATE: MT
NW_QUAD_CORNER_XY: 514188.16600 5232963.36000
NE_QUAD_CORNER_XY: 518917.55300 5232976.61900
SE_QUAD_CORNERY_XY: 518939.79600 5226030.96000
SW_QUAD_CORNER_XY: 514204.84800 5226017.69800
SECONDARY_NW_QUAD_XY: 514188.60600 5232744.71900
SECONDARY_NE_QUAD_XY: 518918.13900 5232757.97900
SECONDARY_SE_QUAD_XY: 518940.38200 5225812.34500
SECONDARY_SW_QUAD_XY: 514205.28800 5225799.08300
RMSE_XY: 2.70000
IMAGE_SOURCE: BLACK AND WHITE FILM
SOURCE_IMAGE_ID: NAPP 9081-028
SOURCE_IMAGE_DATE: 1996 6 12
SOURCE_IMAGE_ID: NAPP 9081-029
SOURCE_IMAGE_DATE: 1996 6 12
SOURCE_DEM_DATE: 1999 0 0
AGENCY: WESTERN MAPPING CENTER (WMC)
PRODUCER: WOOLPERT LLP
PRODUCTION_SYSTEM: INTERGRAPH ISPM, ISIR
COMPRESSION: UNDEFINED
STANDARD_VERSION: 1996 12
METADATA_DATE: 2001 10 3
DATA_FILE_SIZE: 40903944
BYTE_COUNT: 5402
