FILENAME: O4710450.SES.1160698.tif
QUADRANGLE_NAME: POVERTY FLAT EAST
QUADRANT: SE
WEST_LONGITUDE: -104 48 45.00000
EAST_LONGITUDE: -104 45 0.00000
NORTH_LATITUDE: 47 11 15.00000
SOUTH_LATITUDE: 47 7 30.00000
PRODUCTION_DATE: 2001 9 21
RASTER_ORDER: LEFT_RIGHT/TOP_BOTTOM
BAND_ORGANIZATION: SINGLE FILE
BAND_CONTENT: BLACK&WHITE
BAND_CONTENT: UNDEFINED
BAND_CONTENT: UNDEFINED
BITS_PER_PIXEL: 8
SAMPLES_AND_LINES: 5408 7571
HORIZONTAL_DATUM: NAD83
HORIZONTAL_COORDINATE_SYSTEM: UTM
COORDINATE_ZONE: 13
HORIZONTAL_UNITS: meters
HORIZONTAL_RESOLUTION: 1.00000
SECONDARY_HORIZONTAL_DATUM: NAD27
XY_ORIGIN: 513860.00000 5226338.00000
SECONDARY_XY_ORIGIN: 513899.83700 5226118.10900
NATION: US
STATE: MT
NW_QUAD_CORNER_XY: 514204.84800 5226017.69800
NE_QUAD_CORNER_XY: 518939.79600 5226030.96000
SE_QUAD_CORNERY_XY: 518962.01700 5219085.37600
SW_QUAD_CORNER_XY: 514221.51400 5219072.11200
SECONDARY_NW_QUAD_XY: 514205.28800 5225799.08300
SECONDARY_NE_QUAD_XY: 518940.38200 5225812.34500
SECONDARY_SE_QUAD_XY: 518962.60300 5218866.78700
SECONDARY_SW_QUAD_XY: 514221.95300 5218853.52300
RMSE_XY: 2.66000
IMAGE_SOURCE: BLACK AND WHITE FILM
SOURCE_IMAGE_ID: NAPP 9081-026
SOURCE_IMAGE_DATE: 1996 6 12
SOURCE_IMAGE_ID: NAPP 9081-025
SOURCE_IMAGE_DATE: 1996 6 12
SOURCE_DEM_DATE: 1999 0 0
AGENCY: WESTERN MAPPING CENTER (WMC)
PRODUCER: WOOLPERT LLP
PRODUCTION_SYSTEM: INTERGRAPH ISPM, ISIR
COMPRESSION: UNDEFINED
STANDARD_VERSION: 1996 12
METADATA_DATE: 2001 10 3
DATA_FILE_SIZE: 40949376
BYTE_COUNT: 5408
