FILENAME: O4710449.SWS.1163695.tif
QUADRANGLE_NAME: POVERTY FLAT WEST
QUADRANT: SW
WEST_LONGITUDE: -105 0 0.00000
EAST_LONGITUDE: -104 56 15.00000
NORTH_LATITUDE: 47 11 15.00000
SOUTH_LATITUDE: 47 7 30.00000
PRODUCTION_DATE: 2001 8 28
RASTER_ORDER: LEFT_RIGHT/TOP_BOTTOM
BAND_ORGANIZATION: SINGLE FILE
BAND_CONTENT: BLACK&WHITE
BAND_CONTENT: UNDEFINED
BAND_CONTENT: UNDEFINED
BITS_PER_PIXEL: 8
SAMPLES_AND_LINES: 5392 7559
HORIZONTAL_DATUM: NAD83
HORIZONTAL_COORDINATE_SYSTEM: UTM
COORDINATE_ZONE: 13
HORIZONTAL_UNITS: meters
HORIZONTAL_RESOLUTION: 1.00000
SECONDARY_HORIZONTAL_DATUM: NAD27
XY_ORIGIN: 499654.00000 5226309.00000
SECONDARY_XY_ORIGIN: 499694.04100 5226089.10500
NATION: US
STATE: MT
NW_QUAD_CORNER_XY: 500000.00000 5226000.64800
NE_QUAD_CORNER_XY: 504734.95000 5226002.54200
SE_QUAD_CORNERY_XY: 504740.50500 5219056.95400
SW_QUAD_CORNER_XY: 500000.00000 5219055.05900
SECONDARY_NW_QUAD_XY: 500000.00000 5225782.03200
SECONDARY_NE_QUAD_XY: 504735.09700 5225783.92600
SECONDARY_SE_QUAD_XY: 504740.65200 5218838.36400
SECONDARY_SW_QUAD_XY: 500000.00000 5218836.46900
RMSE_XY: 1.94000
IMAGE_SOURCE: BLACK AND WHITE FILM
SOURCE_IMAGE_ID: NAPP 9096-083
SOURCE_IMAGE_DATE: 1996 7 9
SOURCE_DEM_DATE: 1999 0 0
AGENCY: WESTERN MAPPING CENTER (WMC)
PRODUCER: WOOLPERT LLP
PRODUCTION_SYSTEM: INTERGRAPH ISPM, ISIR
COMPRESSION: UNDEFINED
STANDARD_VERSION: 1996 12
METADATA_DATE: 2001 8 28
DATA_FILE_SIZE: 40763520
BYTE_COUNT: 5392
