FILENAME: O4710448.NWS.1159438.tif
QUADRANGLE_NAME: SKAAR
QUADRANT: NW
WEST_LONGITUDE: -104 7 30.00000
EAST_LONGITUDE: -104 3 45.00000
NORTH_LATITUDE: 47 22 30.00000
SOUTH_LATITUDE: 47 18 45.00000
PRODUCTION_DATE: 2001 9 16
RASTER_ORDER: LEFT_RIGHT/TOP_BOTTOM
BAND_ORGANIZATION: SINGLE FILE
BAND_CONTENT: BLACK&WHITE
BAND_CONTENT: UNDEFINED
BAND_CONTENT: UNDEFINED
BITS_PER_PIXEL: 8
SAMPLES_AND_LINES: 5450 7613
HORIZONTAL_DATUM: NAD83
HORIZONTAL_COORDINATE_SYSTEM: UTM
COORDINATE_ZONE: 13
HORIZONTAL_UNITS: meters
HORIZONTAL_RESOLUTION: 1.00000
SECONDARY_HORIZONTAL_DATUM: NAD27
XY_ORIGIN: 565713.00000 5247571.00000
SECONDARY_XY_ORIGIN: 565752.00300 5247351.00000
NATION: US
STATE: MT
NW_QUAD_CORNER_XY: 566055.30000 5247209.01300
NE_QUAD_CORNER_XY: 570773.50300 5247263.92900
SE_QUAD_CORNERY_XY: 570857.09200 5240318.18600
SW_QUAD_CORNER_XY: 566133.31600 5240263.26100
SECONDARY_NW_QUAD_XY: 566057.35200 5246990.33400
SECONDARY_NE_QUAD_XY: 570775.70100 5247045.25200
SECONDARY_SE_QUAD_XY: 570859.29000 5240099.53400
SECONDARY_SW_QUAD_XY: 566135.36700 5240044.60600
RMSE_XY: 2.21000
IMAGE_SOURCE: BLACK AND WHITE FILM
SOURCE_IMAGE_ID: NAPP 8631-056
SOURCE_IMAGE_DATE: 1995 7 28
SOURCE_IMAGE_ID: NAPP 8631-057
SOURCE_IMAGE_DATE: 1995 7 28
SOURCE_DEM_DATE: 1999 0 0
AGENCY: WESTERN MAPPING CENTER (WMC)
PRODUCER: WOOLPERT LLP
PRODUCTION_SYSTEM: INTERGRAPH ISPM, ISIR
COMPRESSION: UNDEFINED
STANDARD_VERSION: 1996 12
METADATA_DATE: 2001 9 18
DATA_FILE_SIZE: 41496300
BYTE_COUNT: 5450
