FILENAME: O4710446.NES.1160666.tif
QUADRANGLE_NAME: SAVAGE SE
QUADRANT: NE
WEST_LONGITUDE: -104 18 45.00000
EAST_LONGITUDE: -104 15 0.00000
NORTH_LATITUDE: 47 22 30.00000
SOUTH_LATITUDE: 47 18 45.00000
PRODUCTION_DATE: 2001 9 20
RASTER_ORDER: LEFT_RIGHT/TOP_BOTTOM
BAND_ORGANIZATION: SINGLE FILE
BAND_CONTENT: BLACK&WHITE
BAND_CONTENT: UNDEFINED
BAND_CONTENT: UNDEFINED
BITS_PER_PIXEL: 8
SAMPLES_AND_LINES: 5433 7601
HORIZONTAL_DATUM: NAD83
HORIZONTAL_COORDINATE_SYSTEM: UTM
COORDINATE_ZONE: 13
HORIZONTAL_UNITS: meters
HORIZONTAL_RESOLUTION: 1.00000
SECONDARY_HORIZONTAL_DATUM: NAD27
XY_ORIGIN: 551558.00000 5247417.00000
SECONDARY_XY_ORIGIN: 551597.16600 5247196.95900
NATION: US
STATE: MT
NW_QUAD_CORNER_XY: 551900.65600 5247066.99100
NE_QUAD_CORNER_XY: 556618.87600 5247110.54400
SE_QUAD_CORNERY_XY: 556685.74500 5240164.77500
SW_QUAD_CORNER_XY: 551961.95200 5240121.21400
SECONDARY_NW_QUAD_XY: 551902.26800 5246848.30800
SECONDARY_NE_QUAD_XY: 556620.63500 5246891.86300
SECONDARY_SE_QUAD_XY: 556687.50400 5239946.11700
SECONDARY_SW_QUAD_XY: 551963.56400 5239902.55500
RMSE_XY: 2.12000
IMAGE_SOURCE: BLACK AND WHITE FILM
SOURCE_IMAGE_ID: NAPP 9124-050
SOURCE_IMAGE_DATE: 1997 8 22
SOURCE_IMAGE_ID: NAPP 9124-051
SOURCE_IMAGE_DATE: 1997 8 22
SOURCE_IMAGE_ID: NAPP 9095-068
SOURCE_IMAGE_DATE: 1996 7 9
SOURCE_DEM_DATE: 1999 0 0
AGENCY: WESTERN MAPPING CENTER (WMC)
PRODUCER: WOOLPERT LLP
PRODUCTION_SYSTEM: INTERGRAPH ISPM, ISIR
COMPRESSION: UNDEFINED
STANDARD_VERSION: 1996 12
METADATA_DATE: 2001 10 3
DATA_FILE_SIZE: 41301666
BYTE_COUNT: 5433
