FILENAME: O4710446.SES.1160668.tif
QUADRANGLE_NAME: SAVAGE SE
QUADRANT: SE
WEST_LONGITUDE: -104 18 45.00000
EAST_LONGITUDE: -104 15 0.00000
NORTH_LATITUDE: 47 18 45.00000
SOUTH_LATITUDE: 47 15 0.00000
PRODUCTION_DATE: 2001 9 20
RASTER_ORDER: LEFT_RIGHT/TOP_BOTTOM
BAND_ORGANIZATION: SINGLE FILE
BAND_CONTENT: BLACK&WHITE
BAND_CONTENT: UNDEFINED
BAND_CONTENT: UNDEFINED
BITS_PER_PIXEL: 8
SAMPLES_AND_LINES: 5439 7602
HORIZONTAL_DATUM: NAD83
HORIZONTAL_COORDINATE_SYSTEM: UTM
COORDINATE_ZONE: 13
HORIZONTAL_UNITS: meters
HORIZONTAL_RESOLUTION: 1.00000
SECONDARY_HORIZONTAL_DATUM: NAD27
XY_ORIGIN: 551619.00000 5240472.00000
SECONDARY_XY_ORIGIN: 551658.19600 5240252.00700
NATION: US
STATE: MT
NW_QUAD_CORNER_XY: 551961.95200 5240121.21400
NE_QUAD_CORNER_XY: 556685.74500 5240164.77500
SE_QUAD_CORNERY_XY: 556752.54700 5233219.08000
SW_QUAD_CORNER_XY: 552023.18600 5233175.51200
SECONDARY_NW_QUAD_XY: 551963.56400 5239902.55500
SECONDARY_NE_QUAD_XY: 556687.50400 5239946.11700
SECONDARY_SE_QUAD_XY: 556754.30500 5233000.44700
SECONDARY_SW_QUAD_XY: 552024.79800 5232956.87800
RMSE_XY: 2.31000
IMAGE_SOURCE: BLACK AND WHITE FILM
SOURCE_IMAGE_ID: NAPP 9124-048
SOURCE_IMAGE_DATE: 1997 8 22
SOURCE_DEM_DATE: 1999 0 0
AGENCY: WESTERN MAPPING CENTER (WMC)
PRODUCER: WOOLPERT LLP
PRODUCTION_SYSTEM: INTERGRAPH ISPM, ISIR
COMPRESSION: UNDEFINED
STANDARD_VERSION: 1996 12
METADATA_DATE: 2001 10 3
DATA_FILE_SIZE: 41352717
BYTE_COUNT: 5439
