FILENAME: O4710445.NWS.1160655.tif
QUADRANGLE_NAME: SAVAGE SW
QUADRANT: NW
WEST_LONGITUDE: -104 30 0.00000
EAST_LONGITUDE: -104 26 15.00000
NORTH_LATITUDE: 47 22 30.00000
SOUTH_LATITUDE: 47 18 45.00000
PRODUCTION_DATE: 2001 9 20
RASTER_ORDER: LEFT_RIGHT/TOP_BOTTOM
BAND_ORGANIZATION: SINGLE FILE
BAND_CONTENT: BLACK&WHITE
BAND_CONTENT: UNDEFINED
BAND_CONTENT: UNDEFINED
BITS_PER_PIXEL: 8
SAMPLES_AND_LINES: 5418 7590
HORIZONTAL_DATUM: NAD83
HORIZONTAL_COORDINATE_SYSTEM: UTM
COORDINATE_ZONE: 13
HORIZONTAL_UNITS: meters
HORIZONTAL_RESOLUTION: 1.00000
SECONDARY_HORIZONTAL_DATUM: NAD27
XY_ORIGIN: 537402.00000 5247298.00000
SECONDARY_XY_ORIGIN: 537441.37800 5247077.93700
NATION: US
STATE: MT
NW_QUAD_CORNER_XY: 537745.96600 5246959.05700
NE_QUAD_CORNER_XY: 542464.20000 5246991.24800
SE_QUAD_CORNERY_XY: 542514.35100 5240045.45700
SW_QUAD_CORNER_XY: 537790.54400 5240013.26100
SECONDARY_NW_QUAD_XY: 537747.13900 5246740.37100
SECONDARY_NE_QUAD_XY: 542465.51900 5246772.56300
SECONDARY_SE_QUAD_XY: 542515.67000 5239826.79600
SECONDARY_SW_QUAD_XY: 537791.71700 5239794.59900
RMSE_XY: 2.05000
IMAGE_SOURCE: BLACK AND WHITE FILM
SOURCE_IMAGE_ID: NAPP 9108-100
SOURCE_IMAGE_DATE: 1996 8 8
SOURCE_IMAGE_ID: NAPP 9108-099
SOURCE_IMAGE_DATE: 1996 8 8
SOURCE_IMAGE_ID: NAPP 9108-062
SOURCE_IMAGE_DATE: 1996 8 8
SOURCE_IMAGE_ID: NAPP 9108-101
SOURCE_IMAGE_DATE: 1996 8 8
SOURCE_DEM_DATE: 1999 0 0
AGENCY: WESTERN MAPPING CENTER (WMC)
PRODUCER: WOOLPERT LLP
PRODUCTION_SYSTEM: INTERGRAPH ISPM, ISIR
COMPRESSION: UNDEFINED
STANDARD_VERSION: 1996 12
METADATA_DATE: 2001 10 3
DATA_FILE_SIZE: 41128038
BYTE_COUNT: 5418
