FILENAME: O4710443.NES.1160634.tif
QUADRANGLE_NAME: KOLBERG RANCH
QUADRANT: NE
WEST_LONGITUDE: -104 41 15.00000
EAST_LONGITUDE: -104 37 30.00000
NORTH_LATITUDE: 47 22 30.00000
SOUTH_LATITUDE: 47 18 45.00000
PRODUCTION_DATE: 2001 9 19
RASTER_ORDER: LEFT_RIGHT/TOP_BOTTOM
BAND_ORGANIZATION: SINGLE FILE
BAND_CONTENT: BLACK&WHITE
BAND_CONTENT: UNDEFINED
BAND_CONTENT: UNDEFINED
BITS_PER_PIXEL: 8
SAMPLES_AND_LINES: 5401 7579
HORIZONTAL_DATUM: NAD83
HORIZONTAL_COORDINATE_SYSTEM: UTM
COORDINATE_ZONE: 13
HORIZONTAL_UNITS: meters
HORIZONTAL_RESOLUTION: 1.00000
SECONDARY_HORIZONTAL_DATUM: NAD27
XY_ORIGIN: 523247.00000 5247213.00000
SECONDARY_XY_ORIGIN: 523286.57800 5246992.90700
NATION: US
STATE: MT
NW_QUAD_CORNER_XY: 523591.24400 5246885.20900
NE_QUAD_CORNER_XY: 528309.48700 5246906.03800
SE_QUAD_CORNERY_XY: 528342.92100 5239960.23200
SW_QUAD_CORNER_XY: 523619.10500 5239939.40000
SECONDARY_NW_QUAD_XY: 523591.97700 5246666.52000
SECONDARY_NE_QUAD_XY: 528310.36700 5246687.35000
SECONDARY_SE_QUAD_XY: 528343.80000 5239741.56900
SECONDARY_SW_QUAD_XY: 523619.83700 5239720.73500
RMSE_XY: 1.88000
IMAGE_SOURCE: BLACK AND WHITE FILM
SOURCE_IMAGE_ID: NAPP 9080-076
SOURCE_IMAGE_DATE: 1996 6 12
SOURCE_DEM_DATE: 1999 0 0
AGENCY: WESTERN MAPPING CENTER (WMC)
PRODUCER: WOOLPERT LLP
PRODUCTION_SYSTEM: INTERGRAPH ISPM, ISIR
COMPRESSION: UNDEFINED
STANDARD_VERSION: 1996 12
METADATA_DATE: 2001 10 4
DATA_FILE_SIZE: 40939580
BYTE_COUNT: 5401
