FILENAME: O4710443.NWS.1160635.tif
QUADRANGLE_NAME: KOLBERG RANCH
QUADRANT: NW
WEST_LONGITUDE: -104 45 0.00000
EAST_LONGITUDE: -104 41 15.00000
NORTH_LATITUDE: 47 22 30.00000
SOUTH_LATITUDE: 47 18 45.00000
PRODUCTION_DATE: 2001 9 19
RASTER_ORDER: LEFT_RIGHT/TOP_BOTTOM
BAND_ORGANIZATION: SINGLE FILE
BAND_CONTENT: BLACK&WHITE
BAND_CONTENT: UNDEFINED
BAND_CONTENT: UNDEFINED
BITS_PER_PIXEL: 8
SAMPLES_AND_LINES: 5397 7575
HORIZONTAL_DATUM: NAD83
HORIZONTAL_COORDINATE_SYSTEM: UTM
COORDINATE_ZONE: 13
HORIZONTAL_UNITS: meters
HORIZONTAL_RESOLUTION: 1.00000
SECONDARY_HORIZONTAL_DATUM: NAD27
XY_ORIGIN: 518528.00000 5247192.00000
SECONDARY_XY_ORIGIN: 518567.64400 5246971.89700
NATION: US
STATE: MT
NW_QUAD_CORNER_XY: 518872.99800 5246868.16700
NE_QUAD_CORNER_XY: 523591.24400 5246885.20900
SE_QUAD_CORNERY_XY: 523619.10500 5239939.40000
SW_QUAD_CORNER_XY: 518895.28600 5239922.35500
SECONDARY_NW_QUAD_XY: 518873.58400 5246649.47800
SECONDARY_NE_QUAD_XY: 523591.97700 5246666.52000
SECONDARY_SE_QUAD_XY: 523619.83700 5239720.73500
SECONDARY_SW_QUAD_XY: 518895.87300 5239703.69000
RMSE_XY: 1.94000
IMAGE_SOURCE: BLACK AND WHITE FILM
SOURCE_IMAGE_ID: NAPP 9080-185
SOURCE_IMAGE_DATE: 1996 6 12
SOURCE_IMAGE_ID: NAPP 9081-033
SOURCE_IMAGE_DATE: 1996 6 12
SOURCE_DEM_DATE: 1999 0 0
AGENCY: WESTERN MAPPING CENTER (WMC)
PRODUCER: WOOLPERT LLP
PRODUCTION_SYSTEM: INTERGRAPH ISPM, ISIR
COMPRESSION: UNDEFINED
STANDARD_VERSION: 1996 12
METADATA_DATE: 2001 10 4
DATA_FILE_SIZE: 40887672
BYTE_COUNT: 5397
