FILENAME: O4710443.SES.1160636.tif
QUADRANGLE_NAME: KOLBERG RANCH
QUADRANT: SE
WEST_LONGITUDE: -104 41 15.00000
EAST_LONGITUDE: -104 37 30.00000
NORTH_LATITUDE: 47 18 45.00000
SOUTH_LATITUDE: 47 15 0.00000
PRODUCTION_DATE: 2001 9 19
RASTER_ORDER: LEFT_RIGHT/TOP_BOTTOM
BAND_ORGANIZATION: SINGLE FILE
BAND_CONTENT: BLACK&WHITE
BAND_CONTENT: UNDEFINED
BAND_CONTENT: UNDEFINED
BITS_PER_PIXEL: 8
SAMPLES_AND_LINES: 5407 7579
HORIZONTAL_DATUM: NAD83
HORIZONTAL_COORDINATE_SYSTEM: UTM
COORDINATE_ZONE: 13
HORIZONTAL_UNITS: meters
HORIZONTAL_RESOLUTION: 1.00000
SECONDARY_HORIZONTAL_DATUM: NAD27
XY_ORIGIN: 523275.00000 5240267.00000
SECONDARY_XY_ORIGIN: 523314.61800 5240046.97300
NATION: US
STATE: MT
NW_QUAD_CORNER_XY: 523619.10500 5239939.40000
NE_QUAD_CORNER_XY: 528342.92100 5239960.23200
SE_QUAD_CORNERY_XY: 528376.32000 5233014.50300
SW_QUAD_CORNER_XY: 523646.93700 5232993.66700
SECONDARY_NW_QUAD_XY: 523619.83700 5239720.73500
SECONDARY_NE_QUAD_XY: 528343.80000 5239741.56900
SECONDARY_SE_QUAD_XY: 528377.19900 5232795.86400
SECONDARY_SW_QUAD_XY: 523647.67000 5232775.02700
RMSE_XY: 1.96000
IMAGE_SOURCE: BLACK AND WHITE FILM
SOURCE_IMAGE_ID: NAPP 9080-074
SOURCE_IMAGE_DATE: 1996 6 12
SOURCE_IMAGE_ID: NAPP 9080-073
SOURCE_IMAGE_DATE: 1996 6 12
SOURCE_DEM_DATE: 1999 0 0
AGENCY: WESTERN MAPPING CENTER (WMC)
PRODUCER: WOOLPERT LLP
PRODUCTION_SYSTEM: INTERGRAPH ISPM, ISIR
COMPRESSION: UNDEFINED
STANDARD_VERSION: 1996 12
METADATA_DATE: 2001 10 4
DATA_FILE_SIZE: 40985060
BYTE_COUNT: 5407
