FILENAME: O4710442.SES.1160628.tif
QUADRANGLE_NAME: MORGAN CREEK SCHOOL
QUADRANT: SE
WEST_LONGITUDE: -104 48 45.00000
EAST_LONGITUDE: -104 45 0.00000
NORTH_LATITUDE: 47 18 45.00000
SOUTH_LATITUDE: 47 15 0.00000
PRODUCTION_DATE: 2001 9 19
RASTER_ORDER: LEFT_RIGHT/TOP_BOTTOM
BAND_ORGANIZATION: SINGLE FILE
BAND_CONTENT: BLACK&WHITE
BAND_CONTENT: UNDEFINED
BAND_CONTENT: UNDEFINED
BITS_PER_PIXEL: 8
SAMPLES_AND_LINES: 5396 7571
HORIZONTAL_DATUM: NAD83
HORIZONTAL_COORDINATE_SYSTEM: UTM
COORDINATE_ZONE: 13
HORIZONTAL_UNITS: meters
HORIZONTAL_RESOLUTION: 1.00000
SECONDARY_HORIZONTAL_DATUM: NAD27
XY_ORIGIN: 513827.00000 5240229.00000
SECONDARY_XY_ORIGIN: 513866.75200 5240008.96200
NATION: US
STATE: MT
NW_QUAD_CORNER_XY: 514171.46600 5239909.09800
NE_QUAD_CORNER_XY: 518895.28600 5239922.35500
SE_QUAD_CORNERY_XY: 518917.55300 5232976.61900
SW_QUAD_CORNER_XY: 514188.16600 5232963.36000
SECONDARY_NW_QUAD_XY: 514171.90600 5239690.43300
SECONDARY_NE_QUAD_XY: 518895.87300 5239703.69000
SECONDARY_SE_QUAD_XY: 518918.13900 5232757.97900
SECONDARY_SW_QUAD_XY: 514188.60600 5232744.71900
RMSE_XY: 2.27000
IMAGE_SOURCE: BLACK AND WHITE FILM
SOURCE_IMAGE_ID: NAPP 9081-030
SOURCE_IMAGE_DATE: 1996 6 12
SOURCE_IMAGE_ID: NAPP 9081-142
SOURCE_IMAGE_DATE: 1996 6 12
SOURCE_IMAGE_ID: NAPP 9081-029
SOURCE_IMAGE_DATE: 1996 6 12
SOURCE_DEM_DATE: 1999 0 0
AGENCY: WESTERN MAPPING CENTER (WMC)
PRODUCER: WOOLPERT LLP
PRODUCTION_SYSTEM: INTERGRAPH ISPM, ISIR
COMPRESSION: UNDEFINED
STANDARD_VERSION: 1996 12
METADATA_DATE: 2001 10 4
DATA_FILE_SIZE: 40858512
BYTE_COUNT: 5396
