FILENAME: O4710442.SWS.1160629.tif
QUADRANGLE_NAME: MORGAN CREEK SCHOOL
QUADRANT: SW
WEST_LONGITUDE: -104 52 30.00000
EAST_LONGITUDE: -104 48 45.00000
NORTH_LATITUDE: 47 18 45.00000
SOUTH_LATITUDE: 47 15 0.00000
PRODUCTION_DATE: 2001 9 19
RASTER_ORDER: LEFT_RIGHT/TOP_BOTTOM
BAND_ORGANIZATION: SINGLE FILE
BAND_CONTENT: BLACK&WHITE
BAND_CONTENT: UNDEFINED
BAND_CONTENT: UNDEFINED
BITS_PER_PIXEL: 8
SAMPLES_AND_LINES: 5391 7568
HORIZONTAL_DATUM: NAD83
HORIZONTAL_COORDINATE_SYSTEM: UTM
COORDINATE_ZONE: 13
HORIZONTAL_UNITS: meters
HORIZONTAL_RESOLUTION: 1.00000
SECONDARY_HORIZONTAL_DATUM: NAD27
XY_ORIGIN: 509103.00000 5240216.00000
SECONDARY_XY_ORIGIN: 509142.81900 5239995.95900
NATION: US
STATE: MT
NW_QUAD_CORNER_XY: 509447.64500 5239899.62900
NE_QUAD_CORNER_XY: 514171.46600 5239909.09800
SE_QUAD_CORNERY_XY: 514188.16600 5232963.36000
SW_QUAD_CORNER_XY: 509458.77800 5232953.88900
SECONDARY_NW_QUAD_XY: 509447.93800 5239680.96300
SECONDARY_NE_QUAD_XY: 514171.90600 5239690.43300
SECONDARY_SE_QUAD_XY: 514188.60600 5232744.71900
SECONDARY_SW_QUAD_XY: 509459.07100 5232735.24800
RMSE_XY: 2.18000
IMAGE_SOURCE: BLACK AND WHITE FILM
SOURCE_IMAGE_ID: NAPP 9081-143
SOURCE_IMAGE_DATE: 1996 6 12
SOURCE_IMAGE_ID: NAPP 9081-142
SOURCE_IMAGE_DATE: 1996 6 12
SOURCE_DEM_DATE: 1999 0 0
AGENCY: WESTERN MAPPING CENTER (WMC)
PRODUCER: WOOLPERT LLP
PRODUCTION_SYSTEM: INTERGRAPH ISPM, ISIR
COMPRESSION: UNDEFINED
STANDARD_VERSION: 1996 12
METADATA_DATE: 2001 10 4
DATA_FILE_SIZE: 40804479
BYTE_COUNT: 5391
