FILENAME: O4710441.NES.1163275.tif
QUADRANGLE_NAME: STINKING COULEE
QUADRANT: NE
WEST_LONGITUDE: -104 56 15.00000
EAST_LONGITUDE: -104 52 30.00000
NORTH_LATITUDE: 47 22 30.00000
SOUTH_LATITUDE: 47 18 45.00000
PRODUCTION_DATE: 2001 9 27
RASTER_ORDER: LEFT_RIGHT/TOP_BOTTOM
BAND_ORGANIZATION: SINGLE FILE
BAND_CONTENT: BLACK&WHITE
BAND_CONTENT: UNDEFINED
BAND_CONTENT: UNDEFINED
BITS_PER_PIXEL: 8
SAMPLES_AND_LINES: 5380 7564
HORIZONTAL_DATUM: NAD83
HORIZONTAL_COORDINATE_SYSTEM: UTM
COORDINATE_ZONE: 13
HORIZONTAL_UNITS: meters
HORIZONTAL_RESOLUTION: 1.00000
SECONDARY_HORIZONTAL_DATUM: NAD27
XY_ORIGIN: 504373.00000 5247152.00000
SECONDARY_XY_ORIGIN: 504412.83900 5246931.88300
NATION: US
STATE: MT
NW_QUAD_CORNER_XY: 504718.25100 5246839.76400
NE_QUAD_CORNER_XY: 509436.50100 5246845.44500
SE_QUAD_CORNERY_XY: 509447.64500 5239899.62900
SW_QUAD_CORNER_XY: 504723.82300 5239893.94700
SECONDARY_NW_QUAD_XY: 504718.39700 5246621.07400
SECONDARY_NE_QUAD_XY: 509436.79400 5246626.75500
SECONDARY_SE_QUAD_XY: 509447.93800 5239680.96300
SECONDARY_SW_QUAD_XY: 504723.96900 5239675.28100
RMSE_XY: 2.13000
IMAGE_SOURCE: BLACK AND WHITE FILM
SOURCE_IMAGE_ID: NAPP 9081-160
SOURCE_IMAGE_DATE: 1996 6 12
SOURCE_DEM_DATE: 1999 0 0
AGENCY: WESTERN MAPPING CENTER (WMC)
PRODUCER: WOOLPERT LLP
PRODUCTION_SYSTEM: INTERGRAPH ISPM, ISIR
COMPRESSION: UNDEFINED
STANDARD_VERSION: 1996 12
METADATA_DATE: 2001 10 17
DATA_FILE_SIZE: 40699700
BYTE_COUNT: 5380
