FILENAME: O4710440.SWS.978752.tif
QUADRANGLE_NAME: SKAAR NE
QUADRANT: SW
WEST_LONGITUDE: -104 7 30.00000
EAST_LONGITUDE: -104 3 45.00000
NORTH_LATITUDE: 47 26 15.00000
SOUTH_LATITUDE: 47 22 30.00000
PRODUCTION_DATE: 1999 01 08
RASTER_ORDER: LEFT_RIGHT/TOP_BOTTOM
BAND_ORGANIZATION: SINGLE FILE
BAND_CONTENT: BLACK&WHITE
BAND_CONTENT: UNDEFINED
BAND_CONTENT: UNDEFINED
BITS_PER_PIXEL: 8
SAMPLES_AND_LINES: 5432 7601
HORIZONTAL_DATUM: NAD83
HORIZONTAL_COORDINATE_SYSTEM: UTM
COORDINATE_ZONE: 13
HORIZONTAL_UNITS: METERS
HORIZONTAL_RESOLUTION: 1.00000
SECONDARY_HORIZONTAL_DATUM: NAD27
XY_ORIGIN: 565641.50000 5254510.50000
SECONDARY_XY_ORIGIN: 565680.47300 5254290.45800
NATION: US
STATE: MT
NW_QUAD_CORNER_XY: 565977.20500 5254154.84000
NE_QUAD_CORNER_XY: 570689.82900 5254209.74600
SE_QUAD_CORNERY_XY: 570773.50300 5247263.92900
SW_QUAD_CORNER_XY: 566055.30000 5247209.01300
SECONDARY_NW_QUAD_XY: 565979.25700 5253936.13800
SECONDARY_NE_QUAD_XY: 570692.02700 5253991.04600
SECONDARY_SE_QUAD_XY: 570775.70100 5247045.25300
SECONDARY_SW_QUAD_XY: 566057.35200 5246990.33500
RMSE_XY: 6.57000
IMAGE_SOURCE: BLACK & WHITE FILM
SOURCE_IMAGE_ID: NAPP 8631 054
SOURCE_IMAGE_DATE: 1995 07 28
SOURCE_DEM_DATE: 1998 01 01
AGENCY: WESTERN MAPPING CENTER (WMC)
PRODUCER: ATLANTIC TECHNOLOGIES
PRODUCTION_SYSTEM: INTERGRAPH MODEL_SETUP, BASE_RECTIFIER
COMPRESSION: UNDEFINED
STANDARD_VERSION: 1996 12
METADATA_DATE: 1999 01 06
DATA_FILE_SIZE: 41294064
BYTE_COUNT: 5432
