FILENAME: O4710439.SES.1160685.tif
QUADRANGLE_NAME: SKAAR NW
QUADRANT: SE
WEST_LONGITUDE: -104 11 15.00000
EAST_LONGITUDE: -104 7 30.00000
NORTH_LATITUDE: 47 26 15.00000
SOUTH_LATITUDE: 47 22 30.00000
PRODUCTION_DATE: 2001 9 20
RASTER_ORDER: LEFT_RIGHT/TOP_BOTTOM
BAND_ORGANIZATION: SINGLE FILE
BAND_CONTENT: BLACK&WHITE
BAND_CONTENT: UNDEFINED
BAND_CONTENT: UNDEFINED
BITS_PER_PIXEL: 8
SAMPLES_AND_LINES: 5439 7610
HORIZONTAL_DATUM: NAD83
HORIZONTAL_COORDINATE_SYSTEM: UTM
COORDINATE_ZONE: 13
HORIZONTAL_UNITS: meters
HORIZONTAL_RESOLUTION: 1.00000
SECONDARY_HORIZONTAL_DATUM: NAD27
XY_ORIGIN: 560922.00000 5254462.00000
SECONDARY_XY_ORIGIN: 560961.01900 5254241.93500
NATION: US
STATE: MT
NW_QUAD_CORNER_XY: 561264.57500 5254103.72000
NE_QUAD_CORNER_XY: 565977.20500 5254154.83900
SE_QUAD_CORNERY_XY: 566055.30000 5247209.01300
SW_QUAD_CORNER_XY: 561337.09100 5247157.88400
SECONDARY_NW_QUAD_XY: 561266.48100 5253885.01700
SECONDARY_NE_QUAD_XY: 565979.25700 5253936.13800
SECONDARY_SE_QUAD_XY: 566057.35200 5246990.33400
SECONDARY_SW_QUAD_XY: 561338.99600 5246939.20500
RMSE_XY: 2.49000
IMAGE_SOURCE: BLACK AND WHITE FILM
SOURCE_IMAGE_ID: NAPP 9123-115
SOURCE_IMAGE_DATE: 1997 8 3
SOURCE_IMAGE_ID: NAPP 9123-116
SOURCE_IMAGE_DATE: 1997 8 3
SOURCE_IMAGE_ID: NAPP 9123-219
SOURCE_IMAGE_DATE: 1997 8 3
SOURCE_DEM_DATE: 2001 1 1
AGENCY: WESTERN MAPPING CENTER (WMC)
PRODUCER: WOOLPERT LLP
PRODUCTION_SYSTEM: INTERGRAPH ISPM, ISIR
COMPRESSION: UNDEFINED
STANDARD_VERSION: 1996 12
METADATA_DATE: 2001 10 3
DATA_FILE_SIZE: 41396229
BYTE_COUNT: 5439
