FILENAME: O4710439.SWS.1160686.tif
QUADRANGLE_NAME: SKAAR NW
QUADRANT: SW
WEST_LONGITUDE: -104 15 0.00000
EAST_LONGITUDE: -104 11 15.00000
NORTH_LATITUDE: 47 26 15.00000
SOUTH_LATITUDE: 47 22 30.00000
PRODUCTION_DATE: 2001 9 20
RASTER_ORDER: LEFT_RIGHT/TOP_BOTTOM
BAND_ORGANIZATION: SINGLE FILE
BAND_CONTENT: BLACK&WHITE
BAND_CONTENT: UNDEFINED
BAND_CONTENT: UNDEFINED
BITS_PER_PIXEL: 8
SAMPLES_AND_LINES: 5434 7606
HORIZONTAL_DATUM: NAD83
HORIZONTAL_COORDINATE_SYSTEM: UTM
COORDINATE_ZONE: 13
HORIZONTAL_UNITS: meters
HORIZONTAL_RESOLUTION: 1.00000
SECONDARY_HORIZONTAL_DATUM: NAD27
XY_ORIGIN: 556209.00000 5254411.00000
SECONDARY_XY_ORIGIN: 556248.06600 5254190.91700
NATION: US
STATE: MT
NW_QUAD_CORNER_XY: 556551.93900 5254056.38800
NE_QUAD_CORNER_XY: 561264.57500 5254103.72000
SE_QUAD_CORNERY_XY: 561337.09100 5247157.88400
SW_QUAD_CORNER_XY: 556618.87600 5247110.54400
SECONDARY_NW_QUAD_XY: 556553.69800 5253837.68400
SECONDARY_NE_QUAD_XY: 561266.48100 5253885.01700
SECONDARY_SE_QUAD_XY: 561338.99600 5246939.20500
SECONDARY_SW_QUAD_XY: 556620.63500 5246891.86300
RMSE_XY: 2.38000
IMAGE_SOURCE: BLACK AND WHITE FILM
SOURCE_IMAGE_ID: NAPP 9123-218
SOURCE_IMAGE_DATE: 1997 8 3
SOURCE_IMAGE_ID: NAPP 9124-053
SOURCE_IMAGE_DATE: 1997 8 3
SOURCE_IMAGE_ID: NAPP 9123-219
SOURCE_IMAGE_DATE: 1997 8 3
SOURCE_IMAGE_ID: NAPP 9124-051
SOURCE_IMAGE_DATE: 1997 8 22
SOURCE_DEM_DATE: 2001 1 1
AGENCY: WESTERN MAPPING CENTER (WMC)
PRODUCER: WOOLPERT LLP
PRODUCTION_SYSTEM: INTERGRAPH ISPM, ISIR
COMPRESSION: UNDEFINED
STANDARD_VERSION: 1996 12
METADATA_DATE: 2001 10 3
DATA_FILE_SIZE: 41336438
BYTE_COUNT: 5434
