FILENAME: O4710438.NES.1160662.tif
QUADRANGLE_NAME: SAVAGE
QUADRANT: NE
WEST_LONGITUDE: -104 18 45.00000
EAST_LONGITUDE: -104 15 0.00000
NORTH_LATITUDE: 47 30 0.00000
SOUTH_LATITUDE: 47 26 15.00000
PRODUCTION_DATE: 2001 9 20
RASTER_ORDER: LEFT_RIGHT/TOP_BOTTOM
BAND_ORGANIZATION: SINGLE FILE
BAND_CONTENT: BLACK&WHITE
BAND_CONTENT: UNDEFINED
BAND_CONTENT: UNDEFINED
BITS_PER_PIXEL: 8
SAMPLES_AND_LINES: 5422 7602
HORIZONTAL_DATUM: NAD83
HORIZONTAL_COORDINATE_SYSTEM: UTM
COORDINATE_ZONE: 13
HORIZONTAL_UNITS: meters
HORIZONTAL_RESOLUTION: 1.00000
SECONDARY_HORIZONTAL_DATUM: NAD27
XY_ORIGIN: 551435.00000 5261309.00000
SECONDARY_XY_ORIGIN: 551474.10600 5261088.86600
NATION: US
STATE: MT
NW_QUAD_CORNER_XY: 551777.87600 5260958.77000
NE_QUAD_CORNER_XY: 556484.93400 5261002.30700
SE_QUAD_CORNERY_XY: 556551.93900 5254056.38800
SW_QUAD_CORNER_XY: 551839.29700 5254012.84300
SECONDARY_NW_QUAD_XY: 551779.48900 5260740.04200
SECONDARY_NE_QUAD_XY: 556486.69300 5260783.58100
SECONDARY_SE_QUAD_XY: 556553.69800 5253837.68400
SECONDARY_SW_QUAD_XY: 551840.91000 5253794.13700
RMSE_XY: 2.11000
IMAGE_SOURCE: BLACK AND WHITE FILM
SOURCE_IMAGE_ID: NAPP 9124-054
SOURCE_IMAGE_DATE: 1997 8 22
SOURCE_IMAGE_ID: NAPP 9124-053
SOURCE_IMAGE_DATE: 1997 8 22
SOURCE_DEM_DATE: 1999 0 0
AGENCY: WESTERN MAPPING CENTER (WMC)
PRODUCER: WOOLPERT LLP
PRODUCTION_SYSTEM: INTERGRAPH ISPM, ISIR
COMPRESSION: UNDEFINED
STANDARD_VERSION: 1996 12
METADATA_DATE: 2001 10 3
DATA_FILE_SIZE: 41223466
BYTE_COUNT: 5422
