FILENAME: O4710438.NWS.1160663.tif
QUADRANGLE_NAME: SAVAGE
QUADRANT: NW
WEST_LONGITUDE: -104 22 30.00000
EAST_LONGITUDE: -104 18 45.00000
NORTH_LATITUDE: 47 30 0.00000
SOUTH_LATITUDE: 47 26 15.00000
PRODUCTION_DATE: 2001 9 20
RASTER_ORDER: LEFT_RIGHT/TOP_BOTTOM
BAND_ORGANIZATION: SINGLE FILE
BAND_CONTENT: BLACK&WHITE
BAND_CONTENT: UNDEFINED
BAND_CONTENT: UNDEFINED
BITS_PER_PIXEL: 8
SAMPLES_AND_LINES: 5417 7598
HORIZONTAL_DATUM: NAD83
HORIZONTAL_COORDINATE_SYSTEM: UTM
COORDINATE_ZONE: 13
HORIZONTAL_UNITS: meters
HORIZONTAL_RESOLUTION: 1.00000
SECONDARY_HORIZONTAL_DATUM: NAD27
XY_ORIGIN: 546728.00000 5261266.00000
SECONDARY_XY_ORIGIN: 546767.17300 5261045.85100
NATION: US
STATE: MT
NW_QUAD_CORNER_XY: 547070.81400 5260919.01900
NE_QUAD_CORNER_XY: 551777.87600 5260958.77000
SE_QUAD_CORNERY_XY: 551839.29700 5254012.84300
SW_QUAD_CORNER_XY: 547126.65000 5253973.08500
SECONDARY_NW_QUAD_XY: 547072.28000 5260700.29000
SECONDARY_NE_QUAD_XY: 551779.48900 5260740.04200
SECONDARY_SE_QUAD_XY: 551840.91000 5253794.13700
SECONDARY_SW_QUAD_XY: 547128.11600 5253754.37800
RMSE_XY: 2.33000
IMAGE_SOURCE: BLACK AND WHITE FILM
SOURCE_IMAGE_ID: NAPP 9095-072
SOURCE_IMAGE_DATE: 1996 7 9
SOURCE_DEM_DATE: 1999 0 0
AGENCY: WESTERN MAPPING CENTER (WMC)
PRODUCER: WOOLPERT LLP
PRODUCTION_SYSTEM: INTERGRAPH ISPM, ISIR
COMPRESSION: UNDEFINED
STANDARD_VERSION: 1996 12
METADATA_DATE: 2001 10 3
DATA_FILE_SIZE: 41163783
BYTE_COUNT: 5417
