FILENAME: O4710437.NES.1160650.tif
QUADRANGLE_NAME: KNIFE RIVER MINE
QUADRANT: NE
WEST_LONGITUDE: -104 26 15.00000
EAST_LONGITUDE: -104 22 30.00000
NORTH_LATITUDE: 47 30 0.00000
SOUTH_LATITUDE: 47 26 15.00000
PRODUCTION_DATE: 2001 9 20
RASTER_ORDER: LEFT_RIGHT/TOP_BOTTOM
BAND_ORGANIZATION: SINGLE FILE
BAND_CONTENT: BLACK&WHITE
BAND_CONTENT: UNDEFINED
BAND_CONTENT: UNDEFINED
BITS_PER_PIXEL: 8
SAMPLES_AND_LINES: 5412 7594
HORIZONTAL_DATUM: NAD83
HORIZONTAL_COORDINATE_SYSTEM: UTM
COORDINATE_ZONE: 13
HORIZONTAL_UNITS: meters
HORIZONTAL_RESOLUTION: 1.00000
SECONDARY_HORIZONTAL_DATUM: NAD27
XY_ORIGIN: 542020.00000 5261226.00000
SECONDARY_XY_ORIGIN: 542059.24100 5261005.83700
NATION: US
STATE: MT
NW_QUAD_CORNER_XY: 542363.74600 5260883.05400
NE_QUAD_CORNER_XY: 547070.81400 5260919.01900
SE_QUAD_CORNERY_XY: 547126.65000 5253973.08500
SW_QUAD_CORNER_XY: 542413.99900 5253937.11300
SECONDARY_NW_QUAD_XY: 542365.06500 5260664.32400
SECONDARY_NE_QUAD_XY: 547072.28000 5260700.29000
SECONDARY_SE_QUAD_XY: 547128.11600 5253754.37800
SECONDARY_SW_QUAD_XY: 542415.31800 5253718.40500
RMSE_XY: 2.14000
IMAGE_SOURCE: BLACK AND WHITE FILM
SOURCE_IMAGE_ID: NAPP 9103-032
SOURCE_IMAGE_DATE: 1996 7 15
SOURCE_DEM_DATE: 1999 0 0
AGENCY: WESTERN MAPPING CENTER (WMC)
PRODUCER: WOOLPERT LLP
PRODUCTION_SYSTEM: INTERGRAPH ISPM, ISIR
COMPRESSION: UNDEFINED
STANDARD_VERSION: 1996 12
METADATA_DATE: 2001 10 3
DATA_FILE_SIZE: 41104140
BYTE_COUNT: 5412
