FILENAME: O4710437.SWS.1160653.tif
QUADRANGLE_NAME: KNIFE RIVER MINE
QUADRANT: SW
WEST_LONGITUDE: -104 30 0.00000
EAST_LONGITUDE: -104 26 15.00000
NORTH_LATITUDE: 47 26 15.00000
SOUTH_LATITUDE: 47 22 30.00000
PRODUCTION_DATE: 2001 9 20
RASTER_ORDER: LEFT_RIGHT/TOP_BOTTOM
BAND_ORGANIZATION: SINGLE FILE
BAND_CONTENT: BLACK&WHITE
BAND_CONTENT: UNDEFINED
BAND_CONTENT: UNDEFINED
BITS_PER_PIXEL: 8
SAMPLES_AND_LINES: 5412 7590
HORIZONTAL_DATUM: NAD83
HORIZONTAL_COORDINATE_SYSTEM: UTM
COORDINATE_ZONE: 13
HORIZONTAL_UNITS: meters
HORIZONTAL_RESOLUTION: 1.00000
SECONDARY_HORIZONTAL_DATUM: NAD27
XY_ORIGIN: 537358.00000 5254244.00000
SECONDARY_XY_ORIGIN: 537397.34300 5254023.87900
NATION: US
STATE: MT
NW_QUAD_CORNER_XY: 537701.34300 5253904.92800
NE_QUAD_CORNER_XY: 542413.99900 5253937.11300
SE_QUAD_CORNERY_XY: 542464.20000 5246991.24800
SW_QUAD_CORNER_XY: 537745.96600 5246959.05700
SECONDARY_NW_QUAD_XY: 537702.51500 5253686.21900
SECONDARY_NE_QUAD_XY: 542415.31800 5253718.40500
SECONDARY_SE_QUAD_XY: 542465.51900 5246772.56300
SECONDARY_SW_QUAD_XY: 537747.13900 5246740.37100
RMSE_XY: 1.89000
IMAGE_SOURCE: BLACK AND WHITE FILM
SOURCE_IMAGE_ID: NAPP 9108-102
SOURCE_IMAGE_DATE: 1996 8 8
SOURCE_IMAGE_ID: NAPP 9108-101
SOURCE_IMAGE_DATE: 1996 8 8
SOURCE_DEM_DATE: 1999 0 0
AGENCY: WESTERN MAPPING CENTER (WMC)
PRODUCER: WOOLPERT LLP
PRODUCTION_SYSTEM: INTERGRAPH ISPM, ISIR
COMPRESSION: UNDEFINED
STANDARD_VERSION: 1996 12
METADATA_DATE: 2001 10 3
DATA_FILE_SIZE: 41082492
BYTE_COUNT: 5412
