FILENAME: O4710435.NES.1160630.tif
QUADRANGLE_NAME: INTAKE NW
QUADRANT: NE
WEST_LONGITUDE: -104 41 15.00000
EAST_LONGITUDE: -104 37 30.00000
NORTH_LATITUDE: 47 30 0.00000
SOUTH_LATITUDE: 47 26 15.00000
PRODUCTION_DATE: 2001 9 19
RASTER_ORDER: LEFT_RIGHT/TOP_BOTTOM
BAND_ORGANIZATION: SINGLE FILE
BAND_CONTENT: BLACK&WHITE
BAND_CONTENT: UNDEFINED
BAND_CONTENT: UNDEFINED
BITS_PER_PIXEL: 8
SAMPLES_AND_LINES: 5391 7579
HORIZONTAL_DATUM: NAD83
HORIZONTAL_COORDINATE_SYSTEM: UTM
COORDINATE_ZONE: 13
HORIZONTAL_UNITS: meters
HORIZONTAL_RESOLUTION: 1.00000
SECONDARY_HORIZONTAL_DATUM: NAD27
XY_ORIGIN: 523191.00000 5261105.00000
SECONDARY_XY_ORIGIN: 523230.49700 5260884.77800
NATION: US
STATE: MT
NW_QUAD_CORNER_XY: 523535.43700 5260777.05400
NE_QUAD_CORNER_XY: 528242.51900 5260797.87500
SE_QUAD_CORNERY_XY: 528276.02000 5253851.91800
SW_QUAD_CORNER_XY: 523563.35400 5253831.09300
SECONDARY_NW_QUAD_XY: 523536.17000 5260558.32100
SECONDARY_NE_QUAD_XY: 528243.39800 5260579.14300
SECONDARY_SE_QUAD_XY: 528276.90000 5253633.20800
SECONDARY_SW_QUAD_XY: 523564.08700 5253612.38200
RMSE_XY: 2.31000
IMAGE_SOURCE: BLACK AND WHITE FILM
SOURCE_IMAGE_ID: NAPP 9080-080
SOURCE_IMAGE_DATE: 1996 6 12
SOURCE_DEM_DATE: 1999 0 0
AGENCY: WESTERN MAPPING CENTER (WMC)
PRODUCER: WOOLPERT LLP
PRODUCTION_SYSTEM: INTERGRAPH ISPM, ISIR
COMPRESSION: UNDEFINED
STANDARD_VERSION: 1996 12
METADATA_DATE: 2001 10 4
DATA_FILE_SIZE: 40863780
BYTE_COUNT: 5391
