FILENAME: O4710433.SWS.1163274.tif
QUADRANGLE_NAME: BLOOMFIELD
QUADRANT: SW
WEST_LONGITUDE: -105 0 0.00000
EAST_LONGITUDE: -104 56 15.00000
NORTH_LATITUDE: 47 26 15.00000
SOUTH_LATITUDE: 47 22 30.00000
PRODUCTION_DATE: 2001 9 27
RASTER_ORDER: LEFT_RIGHT/TOP_BOTTOM
BAND_ORGANIZATION: SINGLE FILE
BAND_CONTENT: BLACK&WHITE
BAND_CONTENT: UNDEFINED
BAND_CONTENT: UNDEFINED
BITS_PER_PIXEL: 8
SAMPLES_AND_LINES: 5369 7561
HORIZONTAL_DATUM: NAD83
HORIZONTAL_COORDINATE_SYSTEM: UTM
COORDINATE_ZONE: 13
HORIZONTAL_UNITS: meters
HORIZONTAL_RESOLUTION: 1.00000
SECONDARY_HORIZONTAL_DATUM: NAD27
XY_ORIGIN: 499655.00000 5254093.00000
SECONDARY_XY_ORIGIN: 499694.85500 5253872.80500
NATION: US
STATE: MT
NW_QUAD_CORNER_XY: 500000.00000 5253783.76400
NE_QUAD_CORNER_XY: 504712.67300 5253785.65700
SE_QUAD_CORNERY_XY: 504718.25100 5246839.76400
SW_QUAD_CORNER_XY: 500000.00000 5246837.87100
SECONDARY_NW_QUAD_XY: 500000.00000 5253565.05100
SECONDARY_NE_QUAD_XY: 504712.81900 5253566.94400
SECONDARY_SE_QUAD_XY: 504718.39700 5246621.07400
SECONDARY_SW_QUAD_XY: 500000.00000 5246619.18100
RMSE_XY: 2.66000
IMAGE_SOURCE: BLACK AND WHITE FILM
SOURCE_IMAGE_ID: NAPP 9096-091
SOURCE_IMAGE_DATE: 1996 7 9
SOURCE_DEM_DATE: 1999 0 0
AGENCY: WESTERN MAPPING CENTER (WMC)
PRODUCER: WOOLPERT LLP
PRODUCTION_SYSTEM: INTERGRAPH ISPM, ISIR
COMPRESSION: UNDEFINED
STANDARD_VERSION: 1996 12
METADATA_DATE: 2001 10 17
DATA_FILE_SIZE: 40600378
BYTE_COUNT: 5369
