FILENAME: O4710432.NWS.978714.tif
QUADRANGLE_NAME: SIDNEY SE
QUADRANT: NW
WEST_LONGITUDE: -104 7 30.00000
EAST_LONGITUDE: -104 3 45.00000
NORTH_LATITUDE: 47 37 30.00000
SOUTH_LATITUDE: 47 33 45.00000
PRODUCTION_DATE: 1999 01 08
RASTER_ORDER: LEFT_RIGHT/TOP_BOTTOM
BAND_ORGANIZATION: SINGLE FILE
BAND_CONTENT: BLACK&WHITE
BAND_CONTENT: UNDEFINED
BAND_CONTENT: UNDEFINED
BITS_PER_PIXEL: 8
SAMPLES_AND_LINES: 5416 7602
HORIZONTAL_DATUM: NAD83
HORIZONTAL_COORDINATE_SYSTEM: UTM
COORDINATE_ZONE: 13
HORIZONTAL_UNITS: METERS
HORIZONTAL_RESOLUTION: 1.00000
SECONDARY_HORIZONTAL_DATUM: NAD27
XY_ORIGIN: 565406.50000 5275348.50000
SECONDARY_XY_ORIGIN: 565445.40900 5275128.30700
NATION: US
STATE: MT
NW_QUAD_CORNER_XY: 565742.44700 5274992.76400
NE_QUAD_CORNER_XY: 570438.29900 5275047.63900
SE_QUAD_CORNERY_XY: 570522.22700 5268101.60100
SW_QUAD_CORNER_XY: 565820.77900 5268046.71500
SECONDARY_NW_QUAD_XY: 565744.50000 5274774.00000
SECONDARY_NE_QUAD_XY: 570440.49900 5274828.87600
SECONDARY_SE_QUAD_XY: 570524.42600 5267882.85800
SECONDARY_SW_QUAD_XY: 565822.83100 5267827.97100
RMSE_XY: 1.46000
IMAGE_SOURCE: BLACK & WHITE FILM
SOURCE_IMAGE_ID: NAPP 8631 048
SOURCE_IMAGE_DATE: 1995 07 28
SOURCE_DEM_DATE: 1998 01 01
AGENCY: WESTERN MAPPING CENTER (WMC)
PRODUCER: ATLANTIC TECHNOLOGIES
PRODUCTION_SYSTEM: INTERGRAPH MODEL_SETUP, BASE_RECTIFIER
COMPRESSION: UNDEFINED
STANDARD_VERSION: 1996 12
METADATA_DATE: 1999 01 06
DATA_FILE_SIZE: 41177848
BYTE_COUNT: 5416
