FILENAME: O4710432.SWS.978716.tif
QUADRANGLE_NAME: SIDNEY SE
QUADRANT: SW
WEST_LONGITUDE: -104 7 30.00000
EAST_LONGITUDE: -104 3 45.00000
NORTH_LATITUDE: 47 33 45.00000
SOUTH_LATITUDE: 47 30 0.00000
PRODUCTION_DATE: 1999 01 08
RASTER_ORDER: LEFT_RIGHT/TOP_BOTTOM
BAND_ORGANIZATION: SINGLE FILE
BAND_CONTENT: BLACK&WHITE
BAND_CONTENT: UNDEFINED
BAND_CONTENT: UNDEFINED
BITS_PER_PIXEL: 8
SAMPLES_AND_LINES: 5422 7601
HORIZONTAL_DATUM: NAD83
HORIZONTAL_COORDINATE_SYSTEM: UTM
COORDINATE_ZONE: 13
HORIZONTAL_UNITS: METERS
HORIZONTAL_RESOLUTION: 1.00000
SECONDARY_HORIZONTAL_DATUM: NAD27
XY_ORIGIN: 565484.50000 5268401.50000
SECONDARY_XY_ORIGIN: 565523.42700 5268181.35800
NATION: US
STATE: MT
NW_QUAD_CORNER_XY: 565820.77900 5268046.71500
NE_QUAD_CORNER_XY: 570522.22700 5268101.60100
SE_QUAD_CORNERY_XY: 570606.07000 5261155.63600
SW_QUAD_CORNER_XY: 565899.03100 5261100.74000
SECONDARY_NW_QUAD_XY: 565822.83100 5267827.97100
SECONDARY_NE_QUAD_XY: 570524.42600 5267882.85800
SECONDARY_SE_QUAD_XY: 570608.26900 5260936.91500
SECONDARY_SW_QUAD_XY: 565901.08400 5260882.01700
RMSE_XY: 0.94000
IMAGE_SOURCE: BLACK & WHITE FILM
SOURCE_IMAGE_ID: NAPP 8631 050
SOURCE_IMAGE_DATE: 1995 07 28
SOURCE_DEM_DATE: 1998 01 01
AGENCY: WESTERN MAPPING CENTER (WMC)
PRODUCER: ATLANTIC TECHNOLOGIES
PRODUCTION_SYSTEM: INTERGRAPH MODEL_SETUP, BASE_RECTIFIER
COMPRESSION: UNDEFINED
STANDARD_VERSION: 1996 12
METADATA_DATE: 1999 01 06
DATA_FILE_SIZE: 41218044
BYTE_COUNT: 5422
