FILENAME: O4710431.NWS.1160678.tif
QUADRANGLE_NAME: PICHE
QUADRANT: NW
WEST_LONGITUDE: -104 15 0.00000
EAST_LONGITUDE: -104 11 15.00000
NORTH_LATITUDE: 47 37 30.00000
SOUTH_LATITUDE: 47 33 45.00000
PRODUCTION_DATE: 2001 9 20
RASTER_ORDER: LEFT_RIGHT/TOP_BOTTOM
BAND_ORGANIZATION: SINGLE FILE
BAND_CONTENT: BLACK&WHITE
BAND_CONTENT: UNDEFINED
BAND_CONTENT: UNDEFINED
BITS_PER_PIXEL: 8
SAMPLES_AND_LINES: 5417 7606
HORIZONTAL_DATUM: NAD83
HORIZONTAL_COORDINATE_SYSTEM: UTM
COORDINATE_ZONE: 13
HORIZONTAL_UNITS: meters
HORIZONTAL_RESOLUTION: 1.00000
SECONDARY_HORIZONTAL_DATUM: NAD27
XY_ORIGIN: 556008.00000 5275249.00000
SECONDARY_XY_ORIGIN: 556047.00700 5275028.78700
NATION: US
STATE: MT
NW_QUAD_CORNER_XY: 556350.72100 5274894.36900
NE_QUAD_CORNER_XY: 561046.58700 5274941.67400
SE_QUAD_CORNERY_XY: 561119.32300 5267995.61500
SW_QUAD_CORNER_XY: 556417.86100 5267948.30000
SECONDARY_NW_QUAD_XY: 556352.48100 5274675.60100
SECONDARY_NE_QUAD_XY: 561048.49300 5274722.90700
SECONDARY_SE_QUAD_XY: 561121.22900 5267776.86900
SECONDARY_SW_QUAD_XY: 556419.62100 5267729.55300
RMSE_XY: 2.64000
IMAGE_SOURCE: BLACK AND WHITE FILM
SOURCE_IMAGE_ID: NAPP 9123-212
SOURCE_IMAGE_DATE: 1997 8 3
SOURCE_IMAGE_ID: NAPP 9123-120
SOURCE_IMAGE_DATE: 1997 8 3
SOURCE_DEM_DATE: 2001 1 1
AGENCY: WESTERN MAPPING CENTER (WMC)
PRODUCER: WOOLPERT LLP
PRODUCTION_SYSTEM: INTERGRAPH ISPM, ISIR
COMPRESSION: UNDEFINED
STANDARD_VERSION: 1996 12
METADATA_DATE: 2001 10 3
DATA_FILE_SIZE: 41207119
BYTE_COUNT: 5417
