FILENAME: O4710429.NWS.1160647.tif
QUADRANGLE_NAME: LARSON SCHOOL
QUADRANT: NW
WEST_LONGITUDE: -104 30 0.00000
EAST_LONGITUDE: -104 26 15.00000
NORTH_LATITUDE: 47 37 30.00000
SOUTH_LATITUDE: 47 33 45.00000
PRODUCTION_DATE: 2001 9 20
RASTER_ORDER: LEFT_RIGHT/TOP_BOTTOM
BAND_ORGANIZATION: SINGLE FILE
BAND_CONTENT: BLACK&WHITE
BAND_CONTENT: UNDEFINED
BAND_CONTENT: UNDEFINED
BITS_PER_PIXEL: 8
SAMPLES_AND_LINES: 5395 7591
HORIZONTAL_DATUM: NAD83
HORIZONTAL_COORDINATE_SYSTEM: UTM
COORDINATE_ZONE: 13
HORIZONTAL_UNITS: meters
HORIZONTAL_RESOLUTION: 1.00000
SECONDARY_HORIZONTAL_DATUM: NAD27
XY_ORIGIN: 537224.00000 5275082.00000
SECONDARY_XY_ORIGIN: 537263.26800 5274861.70100
NATION: US
STATE: MT
NW_QUAD_CORNER_XY: 537567.20100 5274742.99500
NE_QUAD_CORNER_XY: 542263.08800 5274775.16200
SE_QUAD_CORNERY_XY: 542313.44300 5267829.07000
SW_QUAD_CORNER_XY: 537611.96000 5267796.89800
SECONDARY_NW_QUAD_XY: 537568.37400 5274524.22300
SECONDARY_NE_QUAD_XY: 542264.40800 5274556.39000
SECONDARY_SE_QUAD_XY: 542314.76200 5267610.31900
SECONDARY_SW_QUAD_XY: 537613.13300 5267578.14500
RMSE_XY: 2.16000
IMAGE_SOURCE: BLACK AND WHITE FILM
SOURCE_IMAGE_ID: NAPP 9107-025
SOURCE_IMAGE_DATE: 1996 8 7
SOURCE_DEM_DATE: 1999 0 0
AGENCY: WESTERN MAPPING CENTER (WMC)
PRODUCER: WOOLPERT LLP
PRODUCTION_SYSTEM: INTERGRAPH ISPM, ISIR
COMPRESSION: UNDEFINED
STANDARD_VERSION: 1996 12
METADATA_DATE: 2001 10 3
DATA_FILE_SIZE: 40958840
BYTE_COUNT: 5395
