FILENAME: O4710429.SES.1160648.tif
QUADRANGLE_NAME: LARSON SCHOOL
QUADRANT: SE
WEST_LONGITUDE: -104 26 15.00000
EAST_LONGITUDE: -104 22 30.00000
NORTH_LATITUDE: 47 33 45.00000
SOUTH_LATITUDE: 47 30 0.00000
PRODUCTION_DATE: 2001 9 20
RASTER_ORDER: LEFT_RIGHT/TOP_BOTTOM
BAND_ORGANIZATION: SINGLE FILE
BAND_CONTENT: BLACK&WHITE
BAND_CONTENT: UNDEFINED
BAND_CONTENT: UNDEFINED
BITS_PER_PIXEL: 8
SAMPLES_AND_LINES: 5406 7594
HORIZONTAL_DATUM: NAD83
HORIZONTAL_COORDINATE_SYSTEM: UTM
COORDINATE_ZONE: 13
HORIZONTAL_UNITS: meters
HORIZONTAL_RESOLUTION: 1.00000
SECONDARY_HORIZONTAL_DATUM: NAD27
XY_ORIGIN: 541970.00000 5268172.00000
SECONDARY_XY_ORIGIN: 542009.22200 5267951.77600
NATION: US
STATE: MT
NW_QUAD_CORNER_XY: 542313.44300 5267829.07000
NE_QUAD_CORNER_XY: 547014.92100 5267865.02800
SE_QUAD_CORNERY_XY: 547070.81400 5260919.01900
SW_QUAD_CORNER_XY: 542363.74600 5260883.05400
SECONDARY_NW_QUAD_XY: 542314.76200 5267610.31900
SECONDARY_NE_QUAD_XY: 547016.38700 5267646.27800
SECONDARY_SE_QUAD_XY: 547072.28000 5260700.29000
SECONDARY_SW_QUAD_XY: 542365.06500 5260664.32400
RMSE_XY: 2.33000
IMAGE_SOURCE: BLACK AND WHITE FILM
SOURCE_IMAGE_ID: NAPP 9103-034
SOURCE_IMAGE_DATE: 1996 7 15
SOURCE_DEM_DATE: 1999 0 0
AGENCY: WESTERN MAPPING CENTER (WMC)
PRODUCER: WOOLPERT LLP
PRODUCTION_SYSTEM: INTERGRAPH ISPM, ISIR
COMPRESSION: UNDEFINED
STANDARD_VERSION: 1996 12
METADATA_DATE: 2001 10 3
DATA_FILE_SIZE: 41058570
BYTE_COUNT: 5406
