FILENAME: O4710428.NES.1163259.tif
QUADRANGLE_NAME: MCCONE HEIGHTS
QUADRANT: NE
WEST_LONGITUDE: -104 33 45.00000
EAST_LONGITUDE: -104 30 0.00000
NORTH_LATITUDE: 47 37 30.00000
SOUTH_LATITUDE: 47 33 45.00000
PRODUCTION_DATE: 2001 9 27
RASTER_ORDER: LEFT_RIGHT/TOP_BOTTOM
BAND_ORGANIZATION: SINGLE FILE
BAND_CONTENT: BLACK&WHITE
BAND_CONTENT: UNDEFINED
BAND_CONTENT: UNDEFINED
BITS_PER_PIXEL: 8
SAMPLES_AND_LINES: 5389 7587
HORIZONTAL_DATUM: NAD83
HORIZONTAL_COORDINATE_SYSTEM: UTM
COORDINATE_ZONE: 13
HORIZONTAL_UNITS: meters
HORIZONTAL_RESOLUTION: 1.00000
SECONDARY_HORIZONTAL_DATUM: NAD27
XY_ORIGIN: 532528.00000 5275050.00000
SECONDARY_XY_ORIGIN: 532567.32400 5274829.68100
NATION: US
STATE: MT
NW_QUAD_CORNER_XY: 532871.31000 5274714.61300
NE_QUAD_CORNER_XY: 537567.20100 5274742.99500
SE_QUAD_CORNERY_XY: 537611.96000 5267796.89800
SW_QUAD_CORNER_XY: 532910.47400 5267768.51000
SECONDARY_NW_QUAD_XY: 532872.33600 5274495.84000
SECONDARY_NE_QUAD_XY: 537568.37400 5274524.22300
SECONDARY_SE_QUAD_XY: 537613.13300 5267578.14500
SECONDARY_SW_QUAD_XY: 532911.50000 5267549.75700
RMSE_XY: 2.45000
IMAGE_SOURCE: BLACK AND WHITE FILM
SOURCE_IMAGE_ID: NAPP 9082-058
SOURCE_IMAGE_DATE: 1996 6 12
SOURCE_IMAGE_ID: NAPP 9082-052
SOURCE_IMAGE_DATE: 1996 6 12
SOURCE_DEM_DATE: 1999 0 0
AGENCY: WESTERN MAPPING CENTER (WMC)
PRODUCER: WOOLPERT LLP
PRODUCTION_SYSTEM: INTERGRAPH ISPM, ISIR
COMPRESSION: UNDEFINED
STANDARD_VERSION: 1996 12
METADATA_DATE: 2001 10 17
DATA_FILE_SIZE: 40891732
BYTE_COUNT: 5389
