FILENAME: O4710428.SWS.1163262.tif
QUADRANGLE_NAME: MCCONE HEIGHTS
QUADRANT: SW
WEST_LONGITUDE: -104 37 30.00000
EAST_LONGITUDE: -104 33 45.00000
NORTH_LATITUDE: 47 33 45.00000
SOUTH_LATITUDE: 47 30 0.00000
PRODUCTION_DATE: 2001 9 27
RASTER_ORDER: LEFT_RIGHT/TOP_BOTTOM
BAND_ORGANIZATION: SINGLE FILE
BAND_CONTENT: BLACK&WHITE
BAND_CONTENT: UNDEFINED
BAND_CONTENT: UNDEFINED
BITS_PER_PIXEL: 8
SAMPLES_AND_LINES: 5390 7584
HORIZONTAL_DATUM: NAD83
HORIZONTAL_COORDINATE_SYSTEM: UTM
COORDINATE_ZONE: 13
HORIZONTAL_UNITS: meters
HORIZONTAL_RESOLUTION: 1.00000
SECONDARY_HORIZONTAL_DATUM: NAD27
XY_ORIGIN: 527865.00000 5268076.00000
SECONDARY_XY_ORIGIN: 527904.40700 5267855.72300
NATION: US
STATE: MT
NW_QUAD_CORNER_XY: 528208.98400 5267743.90800
NE_QUAD_CORNER_XY: 532910.47400 5267768.51000
SE_QUAD_CORNERY_XY: 532949.59800 5260822.48200
SW_QUAD_CORNER_XY: 528242.51900 5260797.87500
SECONDARY_NW_QUAD_XY: 528209.86400 5267525.15400
SECONDARY_NE_QUAD_XY: 532911.50000 5267549.75700
SECONDARY_SE_QUAD_XY: 532950.62400 5260603.75000
SECONDARY_SW_QUAD_XY: 528243.39800 5260579.14300
RMSE_XY: 2.35000
IMAGE_SOURCE: BLACK AND WHITE FILM
SOURCE_IMAGE_ID: NAPP 9082-053
SOURCE_IMAGE_DATE: 1996 6 12
SOURCE_IMAGE_ID: NAPP 9082-052
SOURCE_IMAGE_DATE: 1996 6 12
SOURCE_IMAGE_ID: NAPP 9108-055
SOURCE_IMAGE_DATE: 1996 8 8
SOURCE_DEM_DATE: 1999 0 0
AGENCY: WESTERN MAPPING CENTER (WMC)
PRODUCER: WOOLPERT LLP
PRODUCTION_SYSTEM: INTERGRAPH ISPM, ISIR
COMPRESSION: UNDEFINED
STANDARD_VERSION: 1996 12
METADATA_DATE: 2001 10 17
DATA_FILE_SIZE: 40883150
BYTE_COUNT: 5390
