FILENAME: O4710427.NES.1163246.tif
QUADRANGLE_NAME: BUTLER TABLE
QUADRANT: NE
WEST_LONGITUDE: -104 41 15.00000
EAST_LONGITUDE: -104 37 30.00000
NORTH_LATITUDE: 47 37 30.00000
SOUTH_LATITUDE: 47 33 45.00000
PRODUCTION_DATE: 2001 9 27
RASTER_ORDER: LEFT_RIGHT/TOP_BOTTOM
BAND_ORGANIZATION: SINGLE FILE
BAND_CONTENT: BLACK&WHITE
BAND_CONTENT: UNDEFINED
BAND_CONTENT: UNDEFINED
BITS_PER_PIXEL: 8
SAMPLES_AND_LINES: 5379 7579
HORIZONTAL_DATUM: NAD83
HORIZONTAL_COORDINATE_SYSTEM: UTM
COORDINATE_ZONE: 13
HORIZONTAL_UNITS: meters
HORIZONTAL_RESOLUTION: 1.00000
SECONDARY_HORIZONTAL_DATUM: NAD27
XY_ORIGIN: 523135.00000 5274997.00000
SECONDARY_XY_ORIGIN: 523174.43500 5274776.64100
NATION: US
STATE: MT
NW_QUAD_CORNER_XY: 523479.51700 5274669.20200
NE_QUAD_CORNER_XY: 528175.41500 5274690.01600
SE_QUAD_CORNERY_XY: 528208.98400 5267743.90800
SW_QUAD_CORNER_XY: 523507.49100 5267723.09000
SECONDARY_NW_QUAD_XY: 523480.25000 5274450.42800
SECONDARY_NE_QUAD_XY: 528176.29500 5274471.24200
SECONDARY_SE_QUAD_XY: 528209.86400 5267525.15400
SECONDARY_SW_QUAD_XY: 523508.22400 5267504.33600
RMSE_XY: 2.35000
IMAGE_SOURCE: BLACK AND WHITE FILM
SOURCE_IMAGE_ID: NAPP 9080-084
SOURCE_IMAGE_DATE: 1996 6 12
SOURCE_IMAGE_ID: NAPP 9080-083
SOURCE_IMAGE_DATE: 1996 6 12
SOURCE_IMAGE_ID: NAPP 9080-085
SOURCE_IMAGE_DATE: 1996 6 12
SOURCE_IMAGE_ID: NAPP 9080-178
SOURCE_IMAGE_DATE: 1996 6 12
SOURCE_DEM_DATE: 1999 0 0
AGENCY: WESTERN MAPPING CENTER (WMC)
PRODUCER: WOOLPERT LLP
PRODUCTION_SYSTEM: INTERGRAPH ISPM, ISIR
COMPRESSION: UNDEFINED
STANDARD_VERSION: 1996 12
METADATA_DATE: 2001 10 17
DATA_FILE_SIZE: 40772820
BYTE_COUNT: 5379
