FILENAME: O4710427.NWS.1163248.tif
QUADRANGLE_NAME: BUTLER TABLE
QUADRANT: NW
WEST_LONGITUDE: -104 45 0.00000
EAST_LONGITUDE: -104 41 15.00000
NORTH_LATITUDE: 47 37 30.00000
SOUTH_LATITUDE: 47 33 45.00000
PRODUCTION_DATE: 2001 9 27
RASTER_ORDER: LEFT_RIGHT/TOP_BOTTOM
BAND_ORGANIZATION: SINGLE FILE
BAND_CONTENT: BLACK&WHITE
BAND_CONTENT: UNDEFINED
BAND_CONTENT: UNDEFINED
BITS_PER_PIXEL: 8
SAMPLES_AND_LINES: 5374 7575
HORIZONTAL_DATUM: NAD83
HORIZONTAL_COORDINATE_SYSTEM: UTM
COORDINATE_ZONE: 13
HORIZONTAL_UNITS: meters
HORIZONTAL_RESOLUTION: 1.00000
SECONDARY_HORIZONTAL_DATUM: NAD27
XY_ORIGIN: 518439.00000 5274976.00000
SECONDARY_XY_ORIGIN: 518478.49100 5274755.62100
NATION: US
STATE: MT
NW_QUAD_CORNER_XY: 518783.61700 5274652.17300
NE_QUAD_CORNER_XY: 523479.51700 5274669.20200
SE_QUAD_CORNERY_XY: 523507.49100 5267723.09000
SW_QUAD_CORNER_XY: 518805.99600 5267706.05800
SECONDARY_NW_QUAD_XY: 518784.20300 5274433.39800
SECONDARY_NE_QUAD_XY: 523480.25000 5274450.42800
SECONDARY_SE_QUAD_XY: 523508.22400 5267504.33600
SECONDARY_SW_QUAD_XY: 518806.58200 5267487.30300
RMSE_XY: 2.22000
IMAGE_SOURCE: BLACK AND WHITE FILM
SOURCE_IMAGE_ID: NAPP 9080-177
SOURCE_IMAGE_DATE: 1996 6 12
SOURCE_IMAGE_ID: NAPP 9080-178
SOURCE_IMAGE_DATE: 1996 6 12
SOURCE_IMAGE_ID: NAPP 9080-176
SOURCE_IMAGE_DATE: 1996 6 12
SOURCE_DEM_DATE: 1999 0 0
AGENCY: WESTERN MAPPING CENTER (WMC)
PRODUCER: WOOLPERT LLP
PRODUCTION_SYSTEM: INTERGRAPH ISPM, ISIR
COMPRESSION: UNDEFINED
STANDARD_VERSION: 1996 12
METADATA_DATE: 2001 10 17
DATA_FILE_SIZE: 40713424
BYTE_COUNT: 5374
