FILENAME: O4710426.SES.1163236.tif
QUADRANGLE_NAME: ENID SE
QUADRANT: SE
WEST_LONGITUDE: -104 48 45.00000
EAST_LONGITUDE: -104 45 0.00000
NORTH_LATITUDE: 47 33 45.00000
SOUTH_LATITUDE: 47 30 0.00000
PRODUCTION_DATE: 2001 9 27
RASTER_ORDER: LEFT_RIGHT/TOP_BOTTOM
BAND_ORGANIZATION: SINGLE FILE
BAND_CONTENT: BLACK&WHITE
BAND_CONTENT: UNDEFINED
BAND_CONTENT: UNDEFINED
BITS_PER_PIXEL: 8
SAMPLES_AND_LINES: 5374 7572
HORIZONTAL_DATUM: NAD83
HORIZONTAL_COORDINATE_SYSTEM: UTM
COORDINATE_ZONE: 13
HORIZONTAL_UNITS: meters
HORIZONTAL_RESOLUTION: 1.00000
SECONDARY_HORIZONTAL_DATUM: NAD27
XY_ORIGIN: 513760.00000 5268013.00000
SECONDARY_XY_ORIGIN: 513799.58400 5267792.68200
NATION: US
STATE: MT
NW_QUAD_CORNER_XY: 514104.49900 5267692.81000
NE_QUAD_CORNER_XY: 518805.99600 5267706.05800
SE_QUAD_CORNERY_XY: 518828.35200 5260760.01800
SW_QUAD_CORNER_XY: 514121.26600 5260746.76800
SECONDARY_NW_QUAD_XY: 514104.93800 5267474.05500
SECONDARY_NE_QUAD_XY: 518806.58200 5267487.30300
SECONDARY_SE_QUAD_XY: 518828.93900 5260541.28500
SECONDARY_SW_QUAD_XY: 514121.70600 5260528.03400
RMSE_XY: 2.32000
IMAGE_SOURCE: BLACK AND WHITE FILM
SOURCE_IMAGE_ID: NAPP 9081-038
SOURCE_IMAGE_DATE: 1996 6 12
SOURCE_DEM_DATE: 1999 0 0
AGENCY: WESTERN MAPPING CENTER (WMC)
PRODUCER: WOOLPERT LLP
PRODUCTION_SYSTEM: INTERGRAPH ISPM, ISIR
COMPRESSION: UNDEFINED
STANDARD_VERSION: 1996 12
METADATA_DATE: 2001 10 17
DATA_FILE_SIZE: 40697302
BYTE_COUNT: 5374
