FILENAME: O4710426.SWS.1163237.tif
QUADRANGLE_NAME: ENID SE
QUADRANT: SW
WEST_LONGITUDE: -104 52 30.00000
EAST_LONGITUDE: -104 48 45.00000
NORTH_LATITUDE: 47 33 45.00000
SOUTH_LATITUDE: 47 30 0.00000
PRODUCTION_DATE: 2001 9 27
RASTER_ORDER: LEFT_RIGHT/TOP_BOTTOM
BAND_ORGANIZATION: SINGLE FILE
BAND_CONTENT: BLACK&WHITE
BAND_CONTENT: UNDEFINED
BAND_CONTENT: UNDEFINED
BITS_PER_PIXEL: 8
SAMPLES_AND_LINES: 5369 7568
HORIZONTAL_DATUM: NAD83
HORIZONTAL_COORDINATE_SYSTEM: UTM
COORDINATE_ZONE: 13
HORIZONTAL_UNITS: meters
HORIZONTAL_RESOLUTION: 1.00000
SECONDARY_HORIZONTAL_DATUM: NAD27
XY_ORIGIN: 509058.00000 5268000.00000
SECONDARY_XY_ORIGIN: 509097.64200 5267779.67000
NATION: US
STATE: MT
NW_QUAD_CORNER_XY: 509403.00000 5267683.34800
NE_QUAD_CORNER_XY: 514104.49900 5267692.81000
SE_QUAD_CORNERY_XY: 514121.26600 5260746.76800
SW_QUAD_CORNER_XY: 509414.17800 5260737.30400
SECONDARY_NW_QUAD_XY: 509403.29300 5267464.59200
SECONDARY_NE_QUAD_XY: 514104.93800 5267474.05500
SECONDARY_SE_QUAD_XY: 514121.70600 5260528.03400
SECONDARY_SW_QUAD_XY: 509414.47100 5260518.57000
RMSE_XY: 2.21000
IMAGE_SOURCE: BLACK AND WHITE FILM
SOURCE_IMAGE_ID: NAPP 9081-135
SOURCE_IMAGE_DATE: 1996 6 12
SOURCE_DEM_DATE: 1999 0 0
AGENCY: WESTERN MAPPING CENTER (WMC)
PRODUCER: WOOLPERT LLP
PRODUCTION_SYSTEM: INTERGRAPH ISPM, ISIR
COMPRESSION: UNDEFINED
STANDARD_VERSION: 1996 12
METADATA_DATE: 2001 10 17
DATA_FILE_SIZE: 40637961
BYTE_COUNT: 5369
