FILENAME: O4710425.SES.1163224.tif
QUADRANGLE_NAME: CLAY BUTTE
QUADRANT: SE
WEST_LONGITUDE: -104 56 15.00000
EAST_LONGITUDE: -104 52 30.00000
NORTH_LATITUDE: 47 33 45.00000
SOUTH_LATITUDE: 47 30 0.00000
PRODUCTION_DATE: 2001 9 27
RASTER_ORDER: LEFT_RIGHT/TOP_BOTTOM
BAND_ORGANIZATION: SINGLE FILE
BAND_CONTENT: BLACK&WHITE
BAND_CONTENT: UNDEFINED
BAND_CONTENT: UNDEFINED
BITS_PER_PIXEL: 8
SAMPLES_AND_LINES: 5364 7564
HORIZONTAL_DATUM: NAD83
HORIZONTAL_COORDINATE_SYSTEM: UTM
COORDINATE_ZONE: 13
HORIZONTAL_UNITS: meters
HORIZONTAL_RESOLUTION: 1.00000
SECONDARY_HORIZONTAL_DATUM: NAD27
XY_ORIGIN: 504356.00000 5267990.00000
SECONDARY_XY_ORIGIN: 504395.70000 5267769.65900
NATION: US
STATE: MT
NW_QUAD_CORNER_XY: 504701.50000 5267677.67100
NE_QUAD_CORNER_XY: 509403.00000 5267683.34800
SE_QUAD_CORNERY_XY: 509414.17800 5260737.30400
SW_QUAD_CORNER_XY: 504707.08900 5260731.62600
SECONDARY_NW_QUAD_XY: 504701.64700 5267458.91500
SECONDARY_NE_QUAD_XY: 509403.29300 5267464.59200
SECONDARY_SE_QUAD_XY: 509414.47100 5260518.57000
SECONDARY_SW_QUAD_XY: 504707.23600 5260512.89100
RMSE_XY: 2.35000
IMAGE_SOURCE: BLACK AND WHITE FILM
SOURCE_IMAGE_ID: NAPP 9081-166
SOURCE_IMAGE_DATE: 1996 6 12
SOURCE_IMAGE_ID: NAPP 9096-096
SOURCE_IMAGE_DATE: 1996 7 9
SOURCE_DEM_DATE: 1999 0 0
AGENCY: WESTERN MAPPING CENTER (WMC)
PRODUCER: WOOLPERT LLP
PRODUCTION_SYSTEM: INTERGRAPH ISPM, ISIR
COMPRESSION: UNDEFINED
STANDARD_VERSION: 1996 12
METADATA_DATE: 2001 10 17
DATA_FILE_SIZE: 40578660
BYTE_COUNT: 5364
