FILENAME: O4710425.SWS.1163225.tif
QUADRANGLE_NAME: CLAY BUTTE
QUADRANT: SW
WEST_LONGITUDE: -105 0 0.00000
EAST_LONGITUDE: -104 56 15.00000
NORTH_LATITUDE: 47 33 45.00000
SOUTH_LATITUDE: 47 30 0.00000
PRODUCTION_DATE: 2001 9 27
RASTER_ORDER: LEFT_RIGHT/TOP_BOTTOM
BAND_ORGANIZATION: SINGLE FILE
BAND_CONTENT: BLACK&WHITE
BAND_CONTENT: UNDEFINED
BAND_CONTENT: UNDEFINED
BITS_PER_PIXEL: 8
SAMPLES_AND_LINES: 5358 7561
HORIZONTAL_DATUM: NAD83
HORIZONTAL_COORDINATE_SYSTEM: UTM
COORDINATE_ZONE: 13
HORIZONTAL_UNITS: meters
HORIZONTAL_RESOLUTION: 1.00000
SECONDARY_HORIZONTAL_DATUM: NAD27
XY_ORIGIN: 499655.00000 5267985.00000
SECONDARY_XY_ORIGIN: 499694.75900 5267764.64800
NATION: US
STATE: MT
NW_QUAD_CORNER_XY: 500000.00000 5267675.77800
NE_QUAD_CORNER_XY: 504701.50000 5267677.67100
SE_QUAD_CORNERY_XY: 504707.08900 5260731.62600
SW_QUAD_CORNER_XY: 500000.00000 5260729.73300
SECONDARY_NW_QUAD_XY: 500000.00000 5267457.02200
SECONDARY_NE_QUAD_XY: 504701.64700 5267458.91500
SECONDARY_SE_QUAD_XY: 504707.23600 5260512.89100
SECONDARY_SW_QUAD_XY: 500000.00000 5260510.99800
RMSE_XY: 2.45000
IMAGE_SOURCE: BLACK AND WHITE FILM
SOURCE_IMAGE_ID: NAPP 9096-095
SOURCE_IMAGE_DATE: 1996 7 9
SOURCE_IMAGE_ID: NAPP 9096-096
SOURCE_IMAGE_DATE: 1996 7 9
SOURCE_DEM_DATE: 1999 0 0
AGENCY: WESTERN MAPPING CENTER (WMC)
PRODUCER: WOOLPERT LLP
PRODUCTION_SYSTEM: INTERGRAPH ISPM, ISIR
COMPRESSION: UNDEFINED
STANDARD_VERSION: 1996 12
METADATA_DATE: 2001 10 17
DATA_FILE_SIZE: 40517196
BYTE_COUNT: 5358
