FILENAME: O4710424.SWS.978712.tif
QUADRANGLE_NAME: SIDNEY NE
QUADRANT: SW
WEST_LONGITUDE: -104 7 30.00000
EAST_LONGITUDE: -104 3 45.00000
NORTH_LATITUDE: 47 41 15.00000
SOUTH_LATITUDE: 47 37 30.00000
PRODUCTION_DATE: 1999 01 08
RASTER_ORDER: LEFT_RIGHT/TOP_BOTTOM
BAND_ORGANIZATION: SINGLE FILE
BAND_CONTENT: BLACK&WHITE
BAND_CONTENT: UNDEFINED
BAND_CONTENT: UNDEFINED
BITS_PER_PIXEL: 8
SAMPLES_AND_LINES: 5410 7602
HORIZONTAL_DATUM: NAD83
HORIZONTAL_COORDINATE_SYSTEM: UTM
COORDINATE_ZONE: 13
HORIZONTAL_UNITS: METERS
HORIZONTAL_RESOLUTION: 1.00000
SECONDARY_HORIZONTAL_DATUM: NAD27
XY_ORIGIN: 565328.50000 5282294.50000
SECONDARY_XY_ORIGIN: 565367.39200 5282074.25700
NATION: US
STATE: MT
NW_QUAD_CORNER_XY: 565664.03600 5281938.88800
NE_QUAD_CORNER_XY: 570354.28700 5281993.75200
SE_QUAD_CORNERY_XY: 570438.29900 5275047.63900
SW_QUAD_CORNER_XY: 565742.44700 5274992.76400
SECONDARY_NW_QUAD_XY: 565666.08900 5281720.10400
SECONDARY_NE_QUAD_XY: 570356.48700 5281774.96900
SECONDARY_SE_QUAD_XY: 570440.49900 5274828.87600
SECONDARY_SW_QUAD_XY: 565744.50000 5274774.00000
RMSE_XY: 1.99000
IMAGE_SOURCE: BLACK & WHITE FILM
SOURCE_IMAGE_ID: NAPP 8631 046
SOURCE_IMAGE_DATE: 1995 07 28
SOURCE_DEM_DATE: 1998 01 01
AGENCY: WESTERN MAPPING CENTER (WMC)
PRODUCER: ATLANTIC TECHNOLOGIES
PRODUCTION_SYSTEM: INTERGRAPH MODEL_SETUP, BASE_RECTIFIER
COMPRESSION: UNDEFINED
STANDARD_VERSION: 1996 12
METADATA_DATE: 1999 01 06
DATA_FILE_SIZE: 41132230
BYTE_COUNT: 5410
